BEGIN:VCALENDAR
VERSION:2.0
PRODID:-//L‘Avenir（ラブニール） - ECPv6.4.0.1//NONSGML v1.0//EN
CALSCALE:GREGORIAN
METHOD:PUBLISH
X-WR-CALNAME:L‘Avenir（ラブニール）
X-ORIGINAL-URL:https://neo-lavenir.com
X-WR-CALDESC:L‘Avenir（ラブニール） のイベント
REFRESH-INTERVAL;VALUE=DURATION:PT1H
X-Robots-Tag:noindex
X-PUBLISHED-TTL:PT1H
BEGIN:VTIMEZONE
TZID:Asia/Tokyo
BEGIN:STANDARD
TZOFFSETFROM:+0900
TZOFFSETTO:+0900
TZNAME:JST
DTSTART:20260101T000000
END:STANDARD
END:VTIMEZONE
BEGIN:VEVENT
DTSTART;TZID=Asia/Tokyo:20260316T120000
DTEND;TZID=Asia/Tokyo:20260316T200000
DTSTAMP:20260420T041212
CREATED:20260216T123642Z
LAST-MODIFIED:20260216T123642Z
UID:908-1773662400-1773691200@neo-lavenir.com
SUMMARY:移動販売@ハリウッド東岡山【周年】
DESCRIPTION:取扱商品：たこ焼き
URL:https://neo-lavenir.com/event/%e7%a7%bb%e5%8b%95%e8%b2%a9%e5%a3%b2%e3%83%8f%e3%83%aa%e3%82%a6%e3%83%83%e3%83%89%e6%9d%b1%e5%b2%a1%e5%b1%b1%e3%80%90%e5%91%a8%e5%b9%b4%e3%80%91/
LOCATION:ハリウッド東岡山\, 神下145-1\, 岡山市中区\, 岡山県\, 703-8225\, 日本
CATEGORIES:移動販売
END:VEVENT
BEGIN:VEVENT
DTSTART;TZID=Asia/Tokyo:20260315T120000
DTEND;TZID=Asia/Tokyo:20260315T200000
DTSTAMP:20260420T041212
CREATED:20260216T123547Z
LAST-MODIFIED:20260216T123547Z
UID:906-1773576000-1773604800@neo-lavenir.com
SUMMARY:移動販売@スーパーハリウッド富町
DESCRIPTION:取扱商品：たこ焼き
URL:https://neo-lavenir.com/event/%e7%a7%bb%e5%8b%95%e8%b2%a9%e5%a3%b2%e3%82%b9%e3%83%bc%e3%83%91%e3%83%bc%e3%83%8f%e3%83%aa%e3%82%a6%e3%83%83%e3%83%89%e5%af%8c%e7%94%ba-17/
LOCATION:スーパーハリウッド 富町\, 北区富町２丁目３−１０\, 岡山市\, 岡山県\, 700-0031\, Japan
CATEGORIES:移動販売
END:VEVENT
BEGIN:VEVENT
DTSTART;TZID=Asia/Tokyo:20260314T120000
DTEND;TZID=Asia/Tokyo:20260314T200000
DTSTAMP:20260420T041212
CREATED:20260216T123523Z
LAST-MODIFIED:20260216T123523Z
UID:904-1773489600-1773518400@neo-lavenir.com
SUMMARY:移動販売@グレートハリウッド
DESCRIPTION:取扱商品：たこ焼き
URL:https://neo-lavenir.com/event/%e7%a7%bb%e5%8b%95%e8%b2%a9%e5%a3%b2%e3%82%b0%e3%83%ac%e3%83%bc%e3%83%88%e3%83%8f%e3%83%aa%e3%82%a6%e3%83%83%e3%83%89-13/
LOCATION:グレートハリウッド\, 下中野396-4\, 岡山市北区\, 岡山県\, 708-0821
CATEGORIES:移動販売
END:VEVENT
BEGIN:VEVENT
DTSTART;TZID=Asia/Tokyo:20260313T120000
DTEND;TZID=Asia/Tokyo:20260313T200000
DTSTAMP:20260420T041212
CREATED:20260216T123422Z
LAST-MODIFIED:20260216T123422Z
UID:902-1773403200-1773432000@neo-lavenir.com
SUMMARY:移動販売@ハリウッドⅢスター
DESCRIPTION:取扱商品：たこ焼き
URL:https://neo-lavenir.com/event/%e7%a7%bb%e5%8b%95%e8%b2%a9%e5%a3%b2%e3%83%8f%e3%83%aa%e3%82%a6%e3%83%83%e3%83%89%e2%85%b2%e3%82%b9%e3%82%bf%e3%83%bc-22/
LOCATION:ハリウッドⅢスター\, 生坂763-1\, 倉敷市\, 岡山県\, 710-0002\, 日本
CATEGORIES:移動販売
END:VEVENT
BEGIN:VEVENT
DTSTART;TZID=Asia/Tokyo:20260309T120000
DTEND;TZID=Asia/Tokyo:20260309T200000
DTSTAMP:20260420T041212
CREATED:20260216T123404Z
LAST-MODIFIED:20260216T123404Z
UID:900-1773057600-1773086400@neo-lavenir.com
SUMMARY:移動販売@ハローズ中庄店
DESCRIPTION:取扱商品：たこ焼き
URL:https://neo-lavenir.com/event/%e7%a7%bb%e5%8b%95%e8%b2%a9%e5%a3%b2%e3%83%8f%e3%83%ad%e3%83%bc%e3%82%ba%e4%b8%ad%e5%ba%84%e5%ba%97-11/
LOCATION:ハローズ中庄店\, 松島971-1\, 倉敷市\, 岡山県\, 701-0114
CATEGORIES:移動販売
END:VEVENT
BEGIN:VEVENT
DTSTART;TZID=Asia/Tokyo:20260308T120000
DTEND;TZID=Asia/Tokyo:20260308T200000
DTSTAMP:20260420T041212
CREATED:20260216T123341Z
LAST-MODIFIED:20260228T162620Z
UID:898-1772971200-1773000000@neo-lavenir.com
SUMMARY:移動販売@スーパーハリウッド津山
DESCRIPTION:取扱商品：たこ焼き
URL:https://neo-lavenir.com/event/%e7%a7%bb%e5%8b%95%e8%b2%a9%e5%a3%b2%e3%82%b0%e3%83%ac%e3%83%bc%e3%83%88%e3%83%8f%e3%83%aa%e3%82%a6%e3%83%83%e3%83%89%e6%b4%a5%e5%b1%b1-32/
LOCATION:スーパーハリウッド津山\, 河辺９５２−１\, 津山市\, 岡山県\, 700-0842
CATEGORIES:移動販売
END:VEVENT
BEGIN:VEVENT
DTSTART;TZID=Asia/Tokyo:20260307T120000
DTEND;TZID=Asia/Tokyo:20260307T200000
DTSTAMP:20260420T041212
CREATED:20260216T123319Z
LAST-MODIFIED:20260216T123319Z
UID:896-1772884800-1772913600@neo-lavenir.com
SUMMARY:移動販売@スーパーハリウッド下中野
DESCRIPTION:取扱商品：たこ焼き
URL:https://neo-lavenir.com/event/%e7%a7%bb%e5%8b%95%e8%b2%a9%e5%a3%b2%e3%82%b9%e3%83%bc%e3%83%91%e3%83%bc%e3%83%8f%e3%83%aa%e3%82%a6%e3%83%83%e3%83%89%e4%b8%8b%e4%b8%ad%e9%87%8e-42/
LOCATION:スーパーハリウッド下中野\, 北区下中野３６０−１\, 岡山市\, 岡山県\, 700-0973\, 日本
CATEGORIES:移動販売
END:VEVENT
BEGIN:VEVENT
DTSTART;TZID=Asia/Tokyo:20260306T120000
DTEND;TZID=Asia/Tokyo:20260306T200000
DTSTAMP:20260420T041212
CREATED:20260216T123305Z
LAST-MODIFIED:20260216T123305Z
UID:894-1772798400-1772827200@neo-lavenir.com
SUMMARY:移動販売@ハローズ当新田店
DESCRIPTION:取扱商品：たこ焼き
URL:https://neo-lavenir.com/event/%e7%a7%bb%e5%8b%95%e8%b2%a9%e5%a3%b2%e3%83%8f%e3%83%ad%e3%83%bc%e3%82%ba%e5%bd%93%e6%96%b0%e7%94%b0%e5%ba%97-3/
LOCATION:ハローズ当新田店\, 当新田126-3\, 岡山市南区\, 岡山県\, 703-0956\, Japan
CATEGORIES:移動販売
END:VEVENT
BEGIN:VEVENT
DTSTART;TZID=Asia/Tokyo:20260305T150000
DTEND;TZID=Asia/Tokyo:20260305T200000
DTSTAMP:20260420T041212
CREATED:20260216T123252Z
LAST-MODIFIED:20260216T123252Z
UID:892-1772722800-1772740800@neo-lavenir.com
SUMMARY:移動販売@天満屋ハピーズ 下中野店
DESCRIPTION:取扱商品：たこ焼き
URL:https://neo-lavenir.com/event/%e7%a7%bb%e5%8b%95%e8%b2%a9%e5%a3%b2%e5%a4%a9%e6%ba%80%e5%b1%8b%e3%83%8f%e3%83%94%e3%83%bc%e3%82%ba-%e4%b8%8b%e4%b8%ad%e9%87%8e%e5%ba%97-10/
LOCATION:天満屋ハピーズ 下中野店\, 下中野\, 岡山市北区703-101\, 岡山県\, 700-0973\, Japan
CATEGORIES:移動販売
END:VEVENT
BEGIN:VEVENT
DTSTART;TZID=Asia/Tokyo:20260303T120000
DTEND;TZID=Asia/Tokyo:20260303T200000
DTSTAMP:20260420T041212
CREATED:20260216T123133Z
LAST-MODIFIED:20260216T123133Z
UID:888-1772539200-1772568000@neo-lavenir.com
SUMMARY:移動販売@スーパーハリウッド倉敷
DESCRIPTION:取扱商品：たこ焼き
URL:https://neo-lavenir.com/event/%e7%a7%bb%e5%8b%95%e8%b2%a9%e5%a3%b2%e3%82%b9%e3%83%bc%e3%83%91%e3%83%bc%e3%83%8f%e3%83%aa%e3%82%a6%e3%83%83%e3%83%89%e5%80%89%e6%95%b7-29/
LOCATION:スーパーハリウッド倉敷\, 松島1173-1\, 倉敷市\, 岡山県\, 701-0114\, 日本
CATEGORIES:移動販売
END:VEVENT
BEGIN:VEVENT
DTSTART;TZID=Asia/Tokyo:20260302T120000
DTEND;TZID=Asia/Tokyo:20260302T200000
DTSTAMP:20260420T041212
CREATED:20260216T123021Z
LAST-MODIFIED:20260216T123021Z
UID:886-1772452800-1772481600@neo-lavenir.com
SUMMARY:移動販売@ハローズ十日市店
DESCRIPTION:取扱商品：たこ焼き
URL:https://neo-lavenir.com/event/%e7%a7%bb%e5%8b%95%e8%b2%a9%e5%a3%b2%e3%83%8f%e3%83%ad%e3%83%bc%e3%82%ba%e5%8d%81%e6%97%a5%e5%b8%82%e5%ba%97-13/
LOCATION:ハローズ十日市店\, 十日市西町8-52-2\, 岡山市北区\, 岡山県\, 700-0856
CATEGORIES:移動販売
END:VEVENT
BEGIN:VEVENT
DTSTART;TZID=Asia/Tokyo:20260301T120000
DTEND;TZID=Asia/Tokyo:20260301T200000
DTSTAMP:20260420T041212
CREATED:20260216T123008Z
LAST-MODIFIED:20260216T123008Z
UID:884-1772366400-1772395200@neo-lavenir.com
SUMMARY:移動販売@スーパーハリウッド1000 福山
DESCRIPTION:取扱商品：たこ焼き
URL:https://neo-lavenir.com/event/%e7%a7%bb%e5%8b%95%e8%b2%a9%e5%a3%b2%e3%82%b9%e3%83%bc%e3%83%91%e3%83%bc%e3%83%8f%e3%83%aa%e3%82%a6%e3%83%83%e3%83%891000-%e7%a6%8f%e5%b1%b1-23/
LOCATION:スーパーハリウッド1000 福山\, 東深津町３丁目１４−１\, 福山市\, 広島県\, 721-0974\, 日本
CATEGORIES:移動販売
END:VEVENT
BEGIN:VEVENT
DTSTART;TZID=Asia/Tokyo:20260228T120000
DTEND;TZID=Asia/Tokyo:20260228T200000
DTSTAMP:20260420T041212
CREATED:20260118T111849Z
LAST-MODIFIED:20260118T111849Z
UID:875-1772280000-1772308800@neo-lavenir.com
SUMMARY:移動販売@グレートハリウッド津山
DESCRIPTION:取扱商品：たこ焼き
URL:https://neo-lavenir.com/event/%e7%a7%bb%e5%8b%95%e8%b2%a9%e5%a3%b2%e3%82%b0%e3%83%ac%e3%83%bc%e3%83%88%e3%83%8f%e3%83%aa%e3%82%a6%e3%83%83%e3%83%89%e6%b4%a5%e5%b1%b1-31/
LOCATION:グレートハリウッド津山\, 野介代50-1\, 津山市\, 岡山県\, 708-0821\, 日本
CATEGORIES:移動販売
END:VEVENT
BEGIN:VEVENT
DTSTART;TZID=Asia/Tokyo:20260227T120000
DTEND;TZID=Asia/Tokyo:20260227T200000
DTSTAMP:20260420T041212
CREATED:20260118T111836Z
LAST-MODIFIED:20260118T111836Z
UID:873-1772193600-1772222400@neo-lavenir.com
SUMMARY:移動販売@スーパーハリウッド下中野
DESCRIPTION:取扱商品：たこ焼き
URL:https://neo-lavenir.com/event/%e7%a7%bb%e5%8b%95%e8%b2%a9%e5%a3%b2%e3%82%b9%e3%83%bc%e3%83%91%e3%83%bc%e3%83%8f%e3%83%aa%e3%82%a6%e3%83%83%e3%83%89%e4%b8%8b%e4%b8%ad%e9%87%8e-41/
LOCATION:スーパーハリウッド下中野\, 北区下中野３６０−１\, 岡山市\, 岡山県\, 700-0973\, 日本
CATEGORIES:移動販売
END:VEVENT
BEGIN:VEVENT
DTSTART;TZID=Asia/Tokyo:20260226T120000
DTEND;TZID=Asia/Tokyo:20260226T200000
DTSTAMP:20260420T041212
CREATED:20260118T111823Z
LAST-MODIFIED:20260118T111823Z
UID:871-1772107200-1772136000@neo-lavenir.com
SUMMARY:移動販売@スーパーハリウッド倉敷
DESCRIPTION:取扱商品：たこ焼き
URL:https://neo-lavenir.com/event/%e7%a7%bb%e5%8b%95%e8%b2%a9%e5%a3%b2%e3%82%b9%e3%83%bc%e3%83%91%e3%83%bc%e3%83%8f%e3%83%aa%e3%82%a6%e3%83%83%e3%83%89%e5%80%89%e6%95%b7-28/
LOCATION:スーパーハリウッド倉敷\, 松島1173-1\, 倉敷市\, 岡山県\, 701-0114\, 日本
CATEGORIES:移動販売
END:VEVENT
BEGIN:VEVENT
DTSTART;TZID=Asia/Tokyo:20260224T120000
DTEND;TZID=Asia/Tokyo:20260224T200000
DTSTAMP:20260420T041212
CREATED:20260118T111811Z
LAST-MODIFIED:20260118T111811Z
UID:869-1771934400-1771963200@neo-lavenir.com
SUMMARY:移動販売@ハローズ中庄店
DESCRIPTION:取扱商品：たこ焼き
URL:https://neo-lavenir.com/event/%e7%a7%bb%e5%8b%95%e8%b2%a9%e5%a3%b2%e3%83%8f%e3%83%ad%e3%83%bc%e3%82%ba%e4%b8%ad%e5%ba%84%e5%ba%97-10/
LOCATION:ハローズ中庄店\, 松島971-1\, 倉敷市\, 岡山県\, 701-0114
CATEGORIES:移動販売
END:VEVENT
BEGIN:VEVENT
DTSTART;TZID=Asia/Tokyo:20260223T120000
DTEND;TZID=Asia/Tokyo:20260223T200000
DTSTAMP:20260420T041212
CREATED:20260118T111726Z
LAST-MODIFIED:20260118T111726Z
UID:867-1771848000-1771876800@neo-lavenir.com
SUMMARY:移動販売@ハリウッドⅢスター
DESCRIPTION:取扱商品：たこ焼き
URL:https://neo-lavenir.com/event/%e7%a7%bb%e5%8b%95%e8%b2%a9%e5%a3%b2%e3%83%8f%e3%83%aa%e3%82%a6%e3%83%83%e3%83%89%e2%85%b2%e3%82%b9%e3%82%bf%e3%83%bc-21/
LOCATION:ハリウッドⅢスター\, 生坂763-1\, 倉敷市\, 岡山県\, 710-0002\, 日本
CATEGORIES:移動販売
END:VEVENT
BEGIN:VEVENT
DTSTART;TZID=Asia/Tokyo:20260222T120000
DTEND;TZID=Asia/Tokyo:20260222T200000
DTSTAMP:20260420T041212
CREATED:20260118T111709Z
LAST-MODIFIED:20260118T111709Z
UID:865-1771761600-1771790400@neo-lavenir.com
SUMMARY:移動販売@スーパーハリウッド倉敷
DESCRIPTION:取扱商品：たこ焼き
URL:https://neo-lavenir.com/event/%e7%a7%bb%e5%8b%95%e8%b2%a9%e5%a3%b2%e3%82%b9%e3%83%bc%e3%83%91%e3%83%bc%e3%83%8f%e3%83%aa%e3%82%a6%e3%83%83%e3%83%89%e5%80%89%e6%95%b7-27/
LOCATION:スーパーハリウッド倉敷\, 松島1173-1\, 倉敷市\, 岡山県\, 701-0114\, 日本
CATEGORIES:移動販売
END:VEVENT
BEGIN:VEVENT
DTSTART;TZID=Asia/Tokyo:20260221T120000
DTEND;TZID=Asia/Tokyo:20260221T200000
DTSTAMP:20260420T041212
CREATED:20260118T111650Z
LAST-MODIFIED:20260118T111650Z
UID:863-1771675200-1771704000@neo-lavenir.com
SUMMARY:移動販売@スーパーハリウッド富町
DESCRIPTION:取扱商品：たこ焼き
URL:https://neo-lavenir.com/event/%e7%a7%bb%e5%8b%95%e8%b2%a9%e5%a3%b2%e3%82%b9%e3%83%bc%e3%83%91%e3%83%bc%e3%83%8f%e3%83%aa%e3%82%a6%e3%83%83%e3%83%89%e5%af%8c%e7%94%ba-16/
LOCATION:スーパーハリウッド 富町\, 北区富町２丁目３−１０\, 岡山市\, 岡山県\, 700-0031\, Japan
CATEGORIES:移動販売
END:VEVENT
BEGIN:VEVENT
DTSTART;TZID=Asia/Tokyo:20260220T120000
DTEND;TZID=Asia/Tokyo:20260220T200000
DTSTAMP:20260420T041212
CREATED:20260118T111635Z
LAST-MODIFIED:20260118T111635Z
UID:861-1771588800-1771617600@neo-lavenir.com
SUMMARY:移動販売@ハローズ十日市店
DESCRIPTION:取扱商品：たこ焼き
URL:https://neo-lavenir.com/event/%e7%a7%bb%e5%8b%95%e8%b2%a9%e5%a3%b2%e3%83%8f%e3%83%ad%e3%83%bc%e3%82%ba%e5%8d%81%e6%97%a5%e5%b8%82%e5%ba%97-12/
LOCATION:ハローズ十日市店\, 十日市西町8-52-2\, 岡山市北区\, 岡山県\, 700-0856
CATEGORIES:移動販売
END:VEVENT
BEGIN:VEVENT
DTSTART;TZID=Asia/Tokyo:20260218T120000
DTEND;TZID=Asia/Tokyo:20260218T200000
DTSTAMP:20260420T041212
CREATED:20260118T111624Z
LAST-MODIFIED:20260118T111624Z
UID:859-1771416000-1771444800@neo-lavenir.com
SUMMARY:移動販売@グレートハリウッド津山
DESCRIPTION:取扱商品：たこ焼き
URL:https://neo-lavenir.com/event/%e7%a7%bb%e5%8b%95%e8%b2%a9%e5%a3%b2%e3%82%b0%e3%83%ac%e3%83%bc%e3%83%88%e3%83%8f%e3%83%aa%e3%82%a6%e3%83%83%e3%83%89%e6%b4%a5%e5%b1%b1-30/
LOCATION:グレートハリウッド津山\, 野介代50-1\, 津山市\, 岡山県\, 708-0821\, 日本
CATEGORIES:移動販売
END:VEVENT
BEGIN:VEVENT
DTSTART;TZID=Asia/Tokyo:20260217T120000
DTEND;TZID=Asia/Tokyo:20260217T200000
DTSTAMP:20260420T041212
CREATED:20260118T111608Z
LAST-MODIFIED:20260118T111608Z
UID:857-1771329600-1771358400@neo-lavenir.com
SUMMARY:移動販売@スーパーハリウッド下中野
DESCRIPTION:取扱商品：たこ焼き
URL:https://neo-lavenir.com/event/%e7%a7%bb%e5%8b%95%e8%b2%a9%e5%a3%b2%e3%82%b9%e3%83%bc%e3%83%91%e3%83%bc%e3%83%8f%e3%83%aa%e3%82%a6%e3%83%83%e3%83%89%e4%b8%8b%e4%b8%ad%e9%87%8e-40/
LOCATION:スーパーハリウッド下中野\, 北区下中野３６０−１\, 岡山市\, 岡山県\, 700-0973\, 日本
CATEGORIES:移動販売
END:VEVENT
BEGIN:VEVENT
DTSTART;TZID=Asia/Tokyo:20260216T120000
DTEND;TZID=Asia/Tokyo:20260216T200000
DTSTAMP:20260420T041212
CREATED:20260118T112244Z
LAST-MODIFIED:20260118T112244Z
UID:881-1771243200-1771272000@neo-lavenir.com
SUMMARY:移動販売@ハローズ当新田店
DESCRIPTION:取扱商品：たこ焼き
URL:https://neo-lavenir.com/event/%e7%a7%bb%e5%8b%95%e8%b2%a9%e5%a3%b2%e3%83%8f%e3%83%ad%e3%83%bc%e3%82%ba%e5%bd%93%e6%96%b0%e7%94%b0%e5%ba%97-2/
LOCATION:ハローズ当新田店\, 当新田126-3\, 岡山市南区\, 岡山県\, 703-0956\, Japan
CATEGORIES:移動販売
END:VEVENT
BEGIN:VEVENT
DTSTART;TZID=Asia/Tokyo:20260215T120000
DTEND;TZID=Asia/Tokyo:20260215T200000
DTSTAMP:20260420T041212
CREATED:20260118T111530Z
LAST-MODIFIED:20260118T111530Z
UID:855-1771156800-1771185600@neo-lavenir.com
SUMMARY:移動販売@スーパーハリウッド富町
DESCRIPTION:取扱商品：たこ焼き
URL:https://neo-lavenir.com/event/%e7%a7%bb%e5%8b%95%e8%b2%a9%e5%a3%b2%e3%82%b9%e3%83%bc%e3%83%91%e3%83%bc%e3%83%8f%e3%83%aa%e3%82%a6%e3%83%83%e3%83%89%e5%af%8c%e7%94%ba-15/
LOCATION:スーパーハリウッド 富町\, 北区富町２丁目３−１０\, 岡山市\, 岡山県\, 700-0031\, Japan
CATEGORIES:移動販売
END:VEVENT
BEGIN:VEVENT
DTSTART;TZID=Asia/Tokyo:20260214T120000
DTEND;TZID=Asia/Tokyo:20260214T200000
DTSTAMP:20260420T041212
CREATED:20260118T111459Z
LAST-MODIFIED:20260118T111459Z
UID:853-1771070400-1771099200@neo-lavenir.com
SUMMARY:移動販売@スーパーハリウッド青江
DESCRIPTION:取扱商品：たこ焼き
URL:https://neo-lavenir.com/event/%e7%a7%bb%e5%8b%95%e8%b2%a9%e5%a3%b2%e3%82%b9%e3%83%bc%e3%83%91%e3%83%bc%e3%83%8f%e3%83%aa%e3%82%a6%e3%83%83%e3%83%89%e9%9d%92%e6%b1%9f-32/
LOCATION:スーパーハリウッド青江\, 北区青江２丁目７−４７\, 岡山市\, 岡山県\, 700-0941\, 日本
CATEGORIES:移動販売
END:VEVENT
BEGIN:VEVENT
DTSTART;TZID=Asia/Tokyo:20260213T120000
DTEND;TZID=Asia/Tokyo:20260213T200000
DTSTAMP:20260420T041212
CREATED:20260118T111440Z
LAST-MODIFIED:20260118T111440Z
UID:851-1770984000-1771012800@neo-lavenir.com
SUMMARY:移動販売@ハリウッドⅢスター
DESCRIPTION:取扱商品：たこ焼き
URL:https://neo-lavenir.com/event/%e7%a7%bb%e5%8b%95%e8%b2%a9%e5%a3%b2%e3%83%8f%e3%83%aa%e3%82%a6%e3%83%83%e3%83%89%e2%85%b2%e3%82%b9%e3%82%bf%e3%83%bc-20/
LOCATION:ハリウッドⅢスター\, 生坂763-1\, 倉敷市\, 岡山県\, 710-0002\, 日本
CATEGORIES:移動販売
END:VEVENT
BEGIN:VEVENT
DTSTART;TZID=Asia/Tokyo:20260211T120000
DTEND;TZID=Asia/Tokyo:20260211T200000
DTSTAMP:20260420T041212
CREATED:20260118T111424Z
LAST-MODIFIED:20260118T111424Z
UID:849-1770811200-1770840000@neo-lavenir.com
SUMMARY:移動販売@スーパーハリウッド1000 福山
DESCRIPTION:取扱商品：たこ焼き
URL:https://neo-lavenir.com/event/%e7%a7%bb%e5%8b%95%e8%b2%a9%e5%a3%b2%e3%82%b9%e3%83%bc%e3%83%91%e3%83%bc%e3%83%8f%e3%83%aa%e3%82%a6%e3%83%83%e3%83%891000-%e7%a6%8f%e5%b1%b1-22/
LOCATION:スーパーハリウッド1000 福山\, 東深津町３丁目１４−１\, 福山市\, 広島県\, 721-0974\, 日本
CATEGORIES:移動販売
END:VEVENT
BEGIN:VEVENT
DTSTART;TZID=Asia/Tokyo:20260210T120000
DTEND;TZID=Asia/Tokyo:20260210T200000
DTSTAMP:20260420T041212
CREATED:20260118T111411Z
LAST-MODIFIED:20260118T111411Z
UID:847-1770724800-1770753600@neo-lavenir.com
SUMMARY:移動販売@ハローズ十日市店
DESCRIPTION:取扱商品：たこ焼き
URL:https://neo-lavenir.com/event/%e7%a7%bb%e5%8b%95%e8%b2%a9%e5%a3%b2%e3%83%8f%e3%83%ad%e3%83%bc%e3%82%ba%e5%8d%81%e6%97%a5%e5%b8%82%e5%ba%97-11/
LOCATION:ハローズ十日市店\, 十日市西町8-52-2\, 岡山市北区\, 岡山県\, 700-0856
CATEGORIES:移動販売
END:VEVENT
BEGIN:VEVENT
DTSTART;TZID=Asia/Tokyo:20260209T120000
DTEND;TZID=Asia/Tokyo:20260209T200000
DTSTAMP:20260420T041212
CREATED:20260118T111350Z
LAST-MODIFIED:20260118T111350Z
UID:845-1770638400-1770667200@neo-lavenir.com
SUMMARY:移動販売@ハリウッド東岡山
DESCRIPTION:取扱商品：たこ焼き
URL:https://neo-lavenir.com/event/%e7%a7%bb%e5%8b%95%e8%b2%a9%e5%a3%b2%e3%83%8f%e3%83%aa%e3%82%a6%e3%83%83%e3%83%89%e6%9d%b1%e5%b2%a1%e5%b1%b1-22/
LOCATION:ハリウッド東岡山\, 神下145-1\, 岡山市中区\, 岡山県\, 703-8225\, 日本
CATEGORIES:移動販売
END:VEVENT
BEGIN:VEVENT
DTSTART;TZID=Asia/Tokyo:20260208T120000
DTEND;TZID=Asia/Tokyo:20260208T200000
DTSTAMP:20260420T041212
CREATED:20260118T111332Z
LAST-MODIFIED:20260118T111332Z
UID:843-1770552000-1770580800@neo-lavenir.com
SUMMARY:移動販売@グレートハリウッド津山
DESCRIPTION:取扱商品：たこ焼き
URL:https://neo-lavenir.com/event/%e7%a7%bb%e5%8b%95%e8%b2%a9%e5%a3%b2%e3%82%b0%e3%83%ac%e3%83%bc%e3%83%88%e3%83%8f%e3%83%aa%e3%82%a6%e3%83%83%e3%83%89%e6%b4%a5%e5%b1%b1-29/
LOCATION:グレートハリウッド津山\, 野介代50-1\, 津山市\, 岡山県\, 708-0821\, 日本
CATEGORIES:移動販売
END:VEVENT
END:VCALENDAR