BEGIN:VCALENDAR
VERSION:2.0
PRODID:-//L‘Avenir（ラブニール） - ECPv6.4.0.1//NONSGML v1.0//EN
CALSCALE:GREGORIAN
METHOD:PUBLISH
X-WR-CALNAME:L‘Avenir（ラブニール）
X-ORIGINAL-URL:https://neo-lavenir.com
X-WR-CALDESC:L‘Avenir（ラブニール） のイベント
REFRESH-INTERVAL;VALUE=DURATION:PT1H
X-Robots-Tag:noindex
X-PUBLISHED-TTL:PT1H
BEGIN:VTIMEZONE
TZID:Asia/Tokyo
BEGIN:STANDARD
TZOFFSETFROM:+0900
TZOFFSETTO:+0900
TZNAME:JST
DTSTART:20250101T000000
END:STANDARD
END:VTIMEZONE
BEGIN:VEVENT
DTSTART;TZID=Asia/Tokyo:20260125T120000
DTEND;TZID=Asia/Tokyo:20260125T200000
DTSTAMP:20260420T091719
CREATED:20251225T014902Z
LAST-MODIFIED:20251225T014902Z
UID:817-1769342400-1769371200@neo-lavenir.com
SUMMARY:移動販売@スーパーハリウッド青江
DESCRIPTION:取扱商品：たこ焼き
URL:https://neo-lavenir.com/event/%e7%a7%bb%e5%8b%95%e8%b2%a9%e5%a3%b2%e3%82%b9%e3%83%bc%e3%83%91%e3%83%bc%e3%83%8f%e3%83%aa%e3%82%a6%e3%83%83%e3%83%89%e9%9d%92%e6%b1%9f-30/
LOCATION:スーパーハリウッド青江\, 北区青江２丁目７−４７\, 岡山市\, 岡山県\, 700-0941\, 日本
CATEGORIES:移動販売
END:VEVENT
BEGIN:VEVENT
DTSTART;TZID=Asia/Tokyo:20260118T120000
DTEND;TZID=Asia/Tokyo:20260118T200000
DTSTAMP:20260420T091719
CREATED:20251225T014833Z
LAST-MODIFIED:20251225T014833Z
UID:815-1768737600-1768766400@neo-lavenir.com
SUMMARY:移動販売@グレートハリウッド津山
DESCRIPTION:取扱商品：たこ焼き
URL:https://neo-lavenir.com/event/%e7%a7%bb%e5%8b%95%e8%b2%a9%e5%a3%b2%e3%82%b0%e3%83%ac%e3%83%bc%e3%83%88%e3%83%8f%e3%83%aa%e3%82%a6%e3%83%83%e3%83%89%e6%b4%a5%e5%b1%b1-27/
LOCATION:グレートハリウッド津山\, 野介代50-1\, 津山市\, 岡山県\, 708-0821\, 日本
CATEGORIES:移動販売
END:VEVENT
BEGIN:VEVENT
DTSTART;TZID=Asia/Tokyo:20260117T120000
DTEND;TZID=Asia/Tokyo:20260117T200000
DTSTAMP:20260420T091719
CREATED:20251225T014652Z
LAST-MODIFIED:20251225T014750Z
UID:809-1768651200-1768680000@neo-lavenir.com
SUMMARY:移動販売@スーパーハリウッド下中野
DESCRIPTION:取扱商品：たこ焼き
URL:https://neo-lavenir.com/event/%e7%a7%bb%e5%8b%95%e8%b2%a9%e5%a3%b2%e3%82%b9%e3%83%bc%e3%83%91%e3%83%bc%e3%83%8f%e3%83%aa%e3%82%a6%e3%83%83%e3%83%89%e4%b8%8b%e4%b8%ad%e9%87%8e-37/
LOCATION:スーパーハリウッド下中野\, 北区下中野３６０−１\, 岡山市\, 岡山県\, 700-0973\, 日本
CATEGORIES:移動販売
END:VEVENT
BEGIN:VEVENT
DTSTART;TZID=Asia/Tokyo:20260116T120000
DTEND;TZID=Asia/Tokyo:20260116T200000
DTSTAMP:20260420T091719
CREATED:20251225T014718Z
LAST-MODIFIED:20251225T014718Z
UID:811-1768564800-1768593600@neo-lavenir.com
SUMMARY:移動販売@ハリウッド東岡山
DESCRIPTION:取扱商品：たこ焼き
URL:https://neo-lavenir.com/event/%e7%a7%bb%e5%8b%95%e8%b2%a9%e5%a3%b2%e3%83%8f%e3%83%aa%e3%82%a6%e3%83%83%e3%83%89%e6%9d%b1%e5%b2%a1%e5%b1%b1-21/
LOCATION:ハリウッド東岡山\, 神下145-1\, 岡山市中区\, 岡山県\, 703-8225\, 日本
CATEGORIES:移動販売
END:VEVENT
BEGIN:VEVENT
DTSTART;TZID=Asia/Tokyo:20260115T150000
DTEND;TZID=Asia/Tokyo:20260115T200000
DTSTAMP:20260420T091719
CREATED:20251225T014807Z
LAST-MODIFIED:20251225T014807Z
UID:813-1768489200-1768507200@neo-lavenir.com
SUMMARY:移動販売@天満屋ハピーズ 下中野店
DESCRIPTION:取扱商品：たこ焼き
URL:https://neo-lavenir.com/event/%e7%a7%bb%e5%8b%95%e8%b2%a9%e5%a3%b2%e5%a4%a9%e6%ba%80%e5%b1%8b%e3%83%8f%e3%83%94%e3%83%bc%e3%82%ba-%e4%b8%8b%e4%b8%ad%e9%87%8e%e5%ba%97-8/
LOCATION:天満屋ハピーズ 下中野店\, 下中野\, 岡山市北区703-101\, 岡山県\, 700-0973\, Japan
CATEGORIES:移動販売
END:VEVENT
BEGIN:VEVENT
DTSTART;TZID=Asia/Tokyo:20260113T120000
DTEND;TZID=Asia/Tokyo:20260113T200000
DTSTAMP:20260420T091719
CREATED:20251225T014632Z
LAST-MODIFIED:20251225T014632Z
UID:807-1768305600-1768334400@neo-lavenir.com
SUMMARY:移動販売@ハリウッドⅢスター
DESCRIPTION:取扱商品：たこ焼き
URL:https://neo-lavenir.com/event/%e7%a7%bb%e5%8b%95%e8%b2%a9%e5%a3%b2%e3%83%8f%e3%83%aa%e3%82%a6%e3%83%83%e3%83%89%e2%85%b2%e3%82%b9%e3%82%bf%e3%83%bc-17/
LOCATION:ハリウッドⅢスター\, 生坂763-1\, 倉敷市\, 岡山県\, 710-0002\, 日本
CATEGORIES:移動販売
END:VEVENT
BEGIN:VEVENT
DTSTART;TZID=Asia/Tokyo:20260112T120000
DTEND;TZID=Asia/Tokyo:20260112T200000
DTSTAMP:20260420T091719
CREATED:20251225T014620Z
LAST-MODIFIED:20251225T014620Z
UID:805-1768219200-1768248000@neo-lavenir.com
SUMMARY:移動販売@スーパーハリウッド1000 福山
DESCRIPTION:取扱商品：たこ焼き
URL:https://neo-lavenir.com/event/%e7%a7%bb%e5%8b%95%e8%b2%a9%e5%a3%b2%e3%82%b9%e3%83%bc%e3%83%91%e3%83%bc%e3%83%8f%e3%83%aa%e3%82%a6%e3%83%83%e3%83%891000-%e7%a6%8f%e5%b1%b1-21/
LOCATION:スーパーハリウッド1000 福山\, 東深津町３丁目１４−１\, 福山市\, 広島県\, 721-0974\, 日本
CATEGORIES:移動販売
END:VEVENT
BEGIN:VEVENT
DTSTART;TZID=Asia/Tokyo:20260111T120000
DTEND;TZID=Asia/Tokyo:20260111T200000
DTSTAMP:20260420T091719
CREATED:20251225T014603Z
LAST-MODIFIED:20251225T014603Z
UID:803-1768132800-1768161600@neo-lavenir.com
SUMMARY:移動販売@スーパーハリウッド倉敷
DESCRIPTION:取扱商品：たこ焼き
URL:https://neo-lavenir.com/event/%e7%a7%bb%e5%8b%95%e8%b2%a9%e5%a3%b2%e3%82%b9%e3%83%bc%e3%83%91%e3%83%bc%e3%83%8f%e3%83%aa%e3%82%a6%e3%83%83%e3%83%89%e5%80%89%e6%95%b7-24/
LOCATION:スーパーハリウッド倉敷\, 松島1173-1\, 倉敷市\, 岡山県\, 701-0114\, 日本
CATEGORIES:移動販売
END:VEVENT
BEGIN:VEVENT
DTSTART;TZID=Asia/Tokyo:20260110T120000
DTEND;TZID=Asia/Tokyo:20260110T200000
DTSTAMP:20260420T091719
CREATED:20251225T014553Z
LAST-MODIFIED:20251225T014553Z
UID:801-1768046400-1768075200@neo-lavenir.com
SUMMARY:移動販売@スーパーハリウッド富町
DESCRIPTION:取扱商品：たこ焼き
URL:https://neo-lavenir.com/event/%e7%a7%bb%e5%8b%95%e8%b2%a9%e5%a3%b2%e3%82%b9%e3%83%bc%e3%83%91%e3%83%bc%e3%83%8f%e3%83%aa%e3%82%a6%e3%83%83%e3%83%89%e5%af%8c%e7%94%ba-14/
LOCATION:スーパーハリウッド 富町\, 北区富町２丁目３−１０\, 岡山市\, 岡山県\, 700-0031\, Japan
CATEGORIES:移動販売
END:VEVENT
BEGIN:VEVENT
DTSTART;TZID=Asia/Tokyo:20260109T120000
DTEND;TZID=Asia/Tokyo:20260109T200000
DTSTAMP:20260420T091719
CREATED:20251225T014537Z
LAST-MODIFIED:20251225T014537Z
UID:799-1767960000-1767988800@neo-lavenir.com
SUMMARY:移動販売@ハローズ十日市店
DESCRIPTION:取扱商品：たこ焼き
URL:https://neo-lavenir.com/event/%e7%a7%bb%e5%8b%95%e8%b2%a9%e5%a3%b2%e3%83%8f%e3%83%ad%e3%83%bc%e3%82%ba%e5%8d%81%e6%97%a5%e5%b8%82%e5%ba%97-10/
LOCATION:ハローズ十日市店\, 十日市西町8-52-2\, 岡山市北区\, 岡山県\, 700-0856
CATEGORIES:移動販売
END:VEVENT
BEGIN:VEVENT
DTSTART;TZID=Asia/Tokyo:20260108T120000
DTEND;TZID=Asia/Tokyo:20260108T200000
DTSTAMP:20260420T091719
CREATED:20251225T014523Z
LAST-MODIFIED:20251225T014523Z
UID:797-1767873600-1767902400@neo-lavenir.com
SUMMARY:移動販売@グレートハリウッド津山
DESCRIPTION:取扱商品：たこ焼き
URL:https://neo-lavenir.com/event/%e7%a7%bb%e5%8b%95%e8%b2%a9%e5%a3%b2%e3%82%b0%e3%83%ac%e3%83%bc%e3%83%88%e3%83%8f%e3%83%aa%e3%82%a6%e3%83%83%e3%83%89%e6%b4%a5%e5%b1%b1-26/
LOCATION:グレートハリウッド津山\, 野介代50-1\, 津山市\, 岡山県\, 708-0821\, 日本
CATEGORIES:移動販売
END:VEVENT
BEGIN:VEVENT
DTSTART;TZID=Asia/Tokyo:20260107T120000
DTEND;TZID=Asia/Tokyo:20260107T200000
DTSTAMP:20260420T091719
CREATED:20251225T014425Z
LAST-MODIFIED:20251225T014425Z
UID:793-1767787200-1767816000@neo-lavenir.com
SUMMARY:移動販売@スーパーハリウッド下中野
DESCRIPTION:取扱商品：たこ焼き
URL:https://neo-lavenir.com/event/%e7%a7%bb%e5%8b%95%e8%b2%a9%e5%a3%b2%e3%82%b9%e3%83%bc%e3%83%91%e3%83%bc%e3%83%8f%e3%83%aa%e3%82%a6%e3%83%83%e3%83%89%e4%b8%8b%e4%b8%ad%e9%87%8e-36/
LOCATION:スーパーハリウッド下中野\, 北区下中野３６０−１\, 岡山市\, 岡山県\, 700-0973\, 日本
CATEGORIES:移動販売
END:VEVENT
BEGIN:VEVENT
DTSTART;TZID=Asia/Tokyo:20260105T150000
DTEND;TZID=Asia/Tokyo:20260105T200000
DTSTAMP:20260420T091719
CREATED:20251225T014452Z
LAST-MODIFIED:20251225T014452Z
UID:795-1767625200-1767643200@neo-lavenir.com
SUMMARY:移動販売@天満屋ハピーズ 下中野店
DESCRIPTION:取扱商品：たこ焼き
URL:https://neo-lavenir.com/event/%e7%a7%bb%e5%8b%95%e8%b2%a9%e5%a3%b2%e5%a4%a9%e6%ba%80%e5%b1%8b%e3%83%8f%e3%83%94%e3%83%bc%e3%82%ba-%e4%b8%8b%e4%b8%ad%e9%87%8e%e5%ba%97-7/
LOCATION:天満屋ハピーズ 下中野店\, 下中野\, 岡山市北区703-101\, 岡山県\, 700-0973\, Japan
CATEGORIES:移動販売
END:VEVENT
BEGIN:VEVENT
DTSTART;TZID=Asia/Tokyo:20260104T120000
DTEND;TZID=Asia/Tokyo:20260104T200000
DTSTAMP:20260420T091719
CREATED:20251225T014400Z
LAST-MODIFIED:20251225T014400Z
UID:791-1767528000-1767556800@neo-lavenir.com
SUMMARY:移動販売@グレートハリウッド
DESCRIPTION:取扱商品：たこ焼き
URL:https://neo-lavenir.com/event/%e7%a7%bb%e5%8b%95%e8%b2%a9%e5%a3%b2%e3%82%b0%e3%83%ac%e3%83%bc%e3%83%88%e3%83%8f%e3%83%aa%e3%82%a6%e3%83%83%e3%83%89-11/
LOCATION:グレートハリウッド\, 下中野396-4\, 岡山市北区\, 岡山県\, 708-0821
CATEGORIES:移動販売
END:VEVENT
BEGIN:VEVENT
DTSTART;TZID=Asia/Tokyo:20260103T120000
DTEND;TZID=Asia/Tokyo:20260103T200000
DTSTAMP:20260420T091719
CREATED:20251115T115152Z
LAST-MODIFIED:20251115T115152Z
UID:781-1767441600-1767470400@neo-lavenir.com
SUMMARY:移動販売@スーパーハリウッド倉敷
DESCRIPTION:取扱商品：たこ焼き
URL:https://neo-lavenir.com/event/%e7%a7%bb%e5%8b%95%e8%b2%a9%e5%a3%b2%e3%82%b9%e3%83%bc%e3%83%91%e3%83%bc%e3%83%8f%e3%83%aa%e3%82%a6%e3%83%83%e3%83%89%e5%80%89%e6%95%b7-23/
LOCATION:スーパーハリウッド倉敷\, 松島1173-1\, 倉敷市\, 岡山県\, 701-0114\, 日本
CATEGORIES:移動販売
END:VEVENT
BEGIN:VEVENT
DTSTART;TZID=Asia/Tokyo:20260102T120000
DTEND;TZID=Asia/Tokyo:20260102T200000
DTSTAMP:20260420T091719
CREATED:20251115T115141Z
LAST-MODIFIED:20251115T115141Z
UID:779-1767355200-1767384000@neo-lavenir.com
SUMMARY:移動販売@スーパーハリウッド倉敷
DESCRIPTION:取扱商品：たこ焼き
URL:https://neo-lavenir.com/event/%e7%a7%bb%e5%8b%95%e8%b2%a9%e5%a3%b2%e3%82%b9%e3%83%bc%e3%83%91%e3%83%bc%e3%83%8f%e3%83%aa%e3%82%a6%e3%83%83%e3%83%89%e5%80%89%e6%95%b7-22/
LOCATION:スーパーハリウッド倉敷\, 松島1173-1\, 倉敷市\, 岡山県\, 701-0114\, 日本
CATEGORIES:移動販売
END:VEVENT
BEGIN:VEVENT
DTSTART;TZID=Asia/Tokyo:20260101T120000
DTEND;TZID=Asia/Tokyo:20260101T200000
DTSTAMP:20260420T091719
CREATED:20251115T115131Z
LAST-MODIFIED:20251115T115131Z
UID:777-1767268800-1767297600@neo-lavenir.com
SUMMARY:移動販売@スーパーハリウッド倉敷
DESCRIPTION:取扱商品：たこ焼き
URL:https://neo-lavenir.com/event/%e7%a7%bb%e5%8b%95%e8%b2%a9%e5%a3%b2%e3%82%b9%e3%83%bc%e3%83%91%e3%83%bc%e3%83%8f%e3%83%aa%e3%82%a6%e3%83%83%e3%83%89%e5%80%89%e6%95%b7-21/
LOCATION:スーパーハリウッド倉敷\, 松島1173-1\, 倉敷市\, 岡山県\, 701-0114\, 日本
CATEGORIES:移動販売
END:VEVENT
BEGIN:VEVENT
DTSTART;TZID=Asia/Tokyo:20251230T120000
DTEND;TZID=Asia/Tokyo:20251230T200000
DTSTAMP:20260420T091719
CREATED:20251115T115107Z
LAST-MODIFIED:20251115T115107Z
UID:775-1767096000-1767124800@neo-lavenir.com
SUMMARY:移動販売@グレートハリウッド
DESCRIPTION:取扱商品：たこ焼き
URL:https://neo-lavenir.com/event/%e7%a7%bb%e5%8b%95%e8%b2%a9%e5%a3%b2%e3%82%b0%e3%83%ac%e3%83%bc%e3%83%88%e3%83%8f%e3%83%aa%e3%82%a6%e3%83%83%e3%83%89-10/
LOCATION:グレートハリウッド\, 下中野396-4\, 岡山市北区\, 岡山県\, 708-0821
CATEGORIES:移動販売
END:VEVENT
BEGIN:VEVENT
DTSTART;TZID=Asia/Tokyo:20251229T120000
DTEND;TZID=Asia/Tokyo:20251229T200000
DTSTAMP:20260420T091719
CREATED:20251115T115054Z
LAST-MODIFIED:20251115T115054Z
UID:773-1767009600-1767038400@neo-lavenir.com
SUMMARY:移動販売@グレートハリウッド
DESCRIPTION:取扱商品：たこ焼き
URL:https://neo-lavenir.com/event/%e7%a7%bb%e5%8b%95%e8%b2%a9%e5%a3%b2%e3%82%b0%e3%83%ac%e3%83%bc%e3%83%88%e3%83%8f%e3%83%aa%e3%82%a6%e3%83%83%e3%83%89-9/
LOCATION:グレートハリウッド\, 下中野396-4\, 岡山市北区\, 岡山県\, 708-0821
CATEGORIES:移動販売
END:VEVENT
BEGIN:VEVENT
DTSTART;TZID=Asia/Tokyo:20251228T120000
DTEND;TZID=Asia/Tokyo:20251228T200000
DTSTAMP:20260420T091719
CREATED:20251115T115814Z
LAST-MODIFIED:20251115T115814Z
UID:783-1766923200-1766952000@neo-lavenir.com
SUMMARY:移動販売@グレートハリウッド津山
DESCRIPTION:取扱商品：たこ焼き
URL:https://neo-lavenir.com/event/%e7%a7%bb%e5%8b%95%e8%b2%a9%e5%a3%b2%e3%82%b0%e3%83%ac%e3%83%bc%e3%83%88%e3%83%8f%e3%83%aa%e3%82%a6%e3%83%83%e3%83%89%e6%b4%a5%e5%b1%b1-25/
LOCATION:グレートハリウッド津山\, 野介代50-1\, 津山市\, 岡山県\, 708-0821\, 日本
CATEGORIES:移動販売
END:VEVENT
BEGIN:VEVENT
DTSTART;TZID=Asia/Tokyo:20251227T120000
DTEND;TZID=Asia/Tokyo:20251227T200000
DTSTAMP:20260420T091719
CREATED:20251115T115039Z
LAST-MODIFIED:20251115T115536Z
UID:771-1766836800-1766865600@neo-lavenir.com
SUMMARY:移動販売@グレートハリウッド津山【周年】
DESCRIPTION:取扱商品：たこ焼き
URL:https://neo-lavenir.com/event/%e7%a7%bb%e5%8b%95%e8%b2%a9%e5%a3%b2%e3%82%b0%e3%83%ac%e3%83%bc%e3%83%88%e3%83%8f%e3%83%aa%e3%82%a6%e3%83%83%e3%83%89%e6%b4%a5%e5%b1%b1%e3%80%90%e5%91%a8%e5%b9%b4%e3%80%91/
LOCATION:グレートハリウッド津山\, 野介代50-1\, 津山市\, 岡山県\, 708-0821\, 日本
CATEGORIES:移動販売
END:VEVENT
BEGIN:VEVENT
DTSTART;TZID=Asia/Tokyo:20251226T120000
DTEND;TZID=Asia/Tokyo:20251226T200000
DTSTAMP:20260420T091719
CREATED:20251115T115030Z
LAST-MODIFIED:20251115T115520Z
UID:769-1766750400-1766779200@neo-lavenir.com
SUMMARY:移動販売@スーパーハリウッド倉敷【周年】
DESCRIPTION:取扱商品：たこ焼き
URL:https://neo-lavenir.com/event/%e7%a7%bb%e5%8b%95%e8%b2%a9%e5%a3%b2%e3%82%b9%e3%83%bc%e3%83%91%e3%83%bc%e3%83%8f%e3%83%aa%e3%82%a6%e3%83%83%e3%83%89%e5%80%89%e6%95%b7%e3%80%90%e5%91%a8%e5%b9%b4%e3%80%91/
LOCATION:スーパーハリウッド倉敷\, 松島1173-1\, 倉敷市\, 岡山県\, 701-0114\, 日本
CATEGORIES:移動販売
END:VEVENT
BEGIN:VEVENT
DTSTART;TZID=Asia/Tokyo:20251223T120000
DTEND;TZID=Asia/Tokyo:20251223T200000
DTSTAMP:20260420T091719
CREATED:20251115T115006Z
LAST-MODIFIED:20251115T115006Z
UID:767-1766491200-1766520000@neo-lavenir.com
SUMMARY:移動販売@ハリウッドⅢスター
DESCRIPTION:取扱商品：たこ焼き
URL:https://neo-lavenir.com/event/%e7%a7%bb%e5%8b%95%e8%b2%a9%e5%a3%b2%e3%83%8f%e3%83%aa%e3%82%a6%e3%83%83%e3%83%89%e2%85%b2%e3%82%b9%e3%82%bf%e3%83%bc-16/
LOCATION:ハリウッドⅢスター\, 生坂763-1\, 倉敷市\, 岡山県\, 710-0002\, 日本
CATEGORIES:移動販売
END:VEVENT
BEGIN:VEVENT
DTSTART;TZID=Asia/Tokyo:20251222T120000
DTEND;TZID=Asia/Tokyo:20251222T200000
DTSTAMP:20260420T091719
CREATED:20251115T114939Z
LAST-MODIFIED:20251115T114939Z
UID:765-1766404800-1766433600@neo-lavenir.com
SUMMARY:移動販売@ハローズ十日市店
DESCRIPTION:取扱商品：たこ焼き
URL:https://neo-lavenir.com/event/%e7%a7%bb%e5%8b%95%e8%b2%a9%e5%a3%b2%e3%83%8f%e3%83%ad%e3%83%bc%e3%82%ba%e5%8d%81%e6%97%a5%e5%b8%82%e5%ba%97-9/
LOCATION:ハローズ十日市店\, 十日市西町8-52-2\, 岡山市北区\, 岡山県\, 700-0856
CATEGORIES:移動販売
END:VEVENT
BEGIN:VEVENT
DTSTART;TZID=Asia/Tokyo:20251221T120000
DTEND;TZID=Asia/Tokyo:20251221T200000
DTSTAMP:20260420T091719
CREATED:20251115T114925Z
LAST-MODIFIED:20251115T114925Z
UID:763-1766318400-1766347200@neo-lavenir.com
SUMMARY:移動販売@スーパーハリウッド青江
DESCRIPTION:取扱商品：たこ焼き
URL:https://neo-lavenir.com/event/%e7%a7%bb%e5%8b%95%e8%b2%a9%e5%a3%b2%e3%82%b9%e3%83%bc%e3%83%91%e3%83%bc%e3%83%8f%e3%83%aa%e3%82%a6%e3%83%83%e3%83%89%e9%9d%92%e6%b1%9f-29/
LOCATION:スーパーハリウッド青江\, 北区青江２丁目７−４７\, 岡山市\, 岡山県\, 700-0941\, 日本
CATEGORIES:移動販売
END:VEVENT
BEGIN:VEVENT
DTSTART;TZID=Asia/Tokyo:20251220T120000
DTEND;TZID=Asia/Tokyo:20251220T200000
DTSTAMP:20260420T091719
CREATED:20251115T114909Z
LAST-MODIFIED:20251115T114909Z
UID:761-1766232000-1766260800@neo-lavenir.com
SUMMARY:移動販売@スーパーハリウッド富町
DESCRIPTION:取扱商品：たこ焼き
URL:https://neo-lavenir.com/event/%e7%a7%bb%e5%8b%95%e8%b2%a9%e5%a3%b2%e3%82%b9%e3%83%bc%e3%83%91%e3%83%bc%e3%83%8f%e3%83%aa%e3%82%a6%e3%83%83%e3%83%89%e5%af%8c%e7%94%ba-13/
LOCATION:スーパーハリウッド 富町\, 北区富町２丁目３−１０\, 岡山市\, 岡山県\, 700-0031\, Japan
CATEGORIES:移動販売
END:VEVENT
BEGIN:VEVENT
DTSTART;TZID=Asia/Tokyo:20251218T120000
DTEND;TZID=Asia/Tokyo:20251218T200000
DTSTAMP:20260420T091719
CREATED:20251115T114851Z
LAST-MODIFIED:20251115T114851Z
UID:759-1766059200-1766088000@neo-lavenir.com
SUMMARY:移動販売@グレートハリウッド津山
DESCRIPTION:取扱商品：たこ焼き
URL:https://neo-lavenir.com/event/%e7%a7%bb%e5%8b%95%e8%b2%a9%e5%a3%b2%e3%82%b0%e3%83%ac%e3%83%bc%e3%83%88%e3%83%8f%e3%83%aa%e3%82%a6%e3%83%83%e3%83%89%e6%b4%a5%e5%b1%b1-24/
LOCATION:グレートハリウッド津山\, 野介代50-1\, 津山市\, 岡山県\, 708-0821\, 日本
CATEGORIES:移動販売
END:VEVENT
BEGIN:VEVENT
DTSTART;TZID=Asia/Tokyo:20251217T120000
DTEND;TZID=Asia/Tokyo:20251217T200000
DTSTAMP:20260420T091719
CREATED:20251115T114836Z
LAST-MODIFIED:20251115T114836Z
UID:757-1765972800-1766001600@neo-lavenir.com
SUMMARY:移動販売@スーパーハリウッド下中野
DESCRIPTION:取扱商品：たこ焼き
URL:https://neo-lavenir.com/event/%e7%a7%bb%e5%8b%95%e8%b2%a9%e5%a3%b2%e3%82%b9%e3%83%bc%e3%83%91%e3%83%bc%e3%83%8f%e3%83%aa%e3%82%a6%e3%83%83%e3%83%89%e4%b8%8b%e4%b8%ad%e9%87%8e-35/
LOCATION:スーパーハリウッド下中野\, 北区下中野３６０−１\, 岡山市\, 岡山県\, 700-0973\, 日本
CATEGORIES:移動販売
END:VEVENT
BEGIN:VEVENT
DTSTART;TZID=Asia/Tokyo:20251216T120000
DTEND;TZID=Asia/Tokyo:20251216T200000
DTSTAMP:20260420T091719
CREATED:20251115T114752Z
LAST-MODIFIED:20251115T114752Z
UID:755-1765886400-1765915200@neo-lavenir.com
SUMMARY:移動販売@ハリウッド東岡山
DESCRIPTION:取扱商品：たこ焼き
URL:https://neo-lavenir.com/event/%e7%a7%bb%e5%8b%95%e8%b2%a9%e5%a3%b2%e3%83%8f%e3%83%aa%e3%82%a6%e3%83%83%e3%83%89%e6%9d%b1%e5%b2%a1%e5%b1%b1-20/
LOCATION:ハリウッド東岡山\, 神下145-1\, 岡山市中区\, 岡山県\, 703-8225\, 日本
CATEGORIES:移動販売
END:VEVENT
BEGIN:VEVENT
DTSTART;TZID=Asia/Tokyo:20251214T120000
DTEND;TZID=Asia/Tokyo:20251214T200000
DTSTAMP:20260420T091719
CREATED:20251115T114658Z
LAST-MODIFIED:20251115T114658Z
UID:753-1765713600-1765742400@neo-lavenir.com
SUMMARY:移動販売@スーパーハリウッド青江
DESCRIPTION:取扱商品：たこ焼き
URL:https://neo-lavenir.com/event/%e7%a7%bb%e5%8b%95%e8%b2%a9%e5%a3%b2%e3%82%b9%e3%83%bc%e3%83%91%e3%83%bc%e3%83%8f%e3%83%aa%e3%82%a6%e3%83%83%e3%83%89%e9%9d%92%e6%b1%9f-28/
LOCATION:スーパーハリウッド青江\, 北区青江２丁目７−４７\, 岡山市\, 岡山県\, 700-0941\, 日本
CATEGORIES:移動販売
END:VEVENT
END:VCALENDAR