BEGIN:VCALENDAR
VERSION:2.0
PRODID:-//L‘Avenir（ラブニール） - ECPv6.4.0.1//NONSGML v1.0//EN
CALSCALE:GREGORIAN
METHOD:PUBLISH
X-WR-CALNAME:L‘Avenir（ラブニール）
X-ORIGINAL-URL:https://neo-lavenir.com
X-WR-CALDESC:L‘Avenir（ラブニール） のイベント
REFRESH-INTERVAL;VALUE=DURATION:PT1H
X-Robots-Tag:noindex
X-PUBLISHED-TTL:PT1H
BEGIN:VTIMEZONE
TZID:Asia/Tokyo
BEGIN:STANDARD
TZOFFSETFROM:+0900
TZOFFSETTO:+0900
TZNAME:JST
DTSTART:20260101T000000
END:STANDARD
END:VTIMEZONE
BEGIN:VEVENT
DTSTART;TZID=Asia/Tokyo:20260407T120000
DTEND;TZID=Asia/Tokyo:20260407T200000
DTSTAMP:20260420T012903
CREATED:20260323T023655Z
LAST-MODIFIED:20260323T023655Z
UID:953-1775563200-1775592000@neo-lavenir.com
SUMMARY:移動販売@スーパーハリウッド下中野
DESCRIPTION:取扱商品：たこ焼き
URL:https://neo-lavenir.com/event/%e7%a7%bb%e5%8b%95%e8%b2%a9%e5%a3%b2%e3%82%b9%e3%83%bc%e3%83%91%e3%83%bc%e3%83%8f%e3%83%aa%e3%82%a6%e3%83%83%e3%83%89%e4%b8%8b%e4%b8%ad%e9%87%8e-45/
LOCATION:スーパーハリウッド下中野\, 北区下中野３６０−１\, 岡山市\, 岡山県\, 700-0973\, 日本
CATEGORIES:移動販売
END:VEVENT
BEGIN:VEVENT
DTSTART;TZID=Asia/Tokyo:20260406T150000
DTEND;TZID=Asia/Tokyo:20260406T200000
DTSTAMP:20260420T012903
CREATED:20260323T023638Z
LAST-MODIFIED:20260323T023638Z
UID:951-1775487600-1775505600@neo-lavenir.com
SUMMARY:移動販売@天満屋ハピーズ 下中野店
DESCRIPTION:取扱商品：たこ焼き
URL:https://neo-lavenir.com/event/%e7%a7%bb%e5%8b%95%e8%b2%a9%e5%a3%b2%e5%a4%a9%e6%ba%80%e5%b1%8b%e3%83%8f%e3%83%94%e3%83%bc%e3%82%ba-%e4%b8%8b%e4%b8%ad%e9%87%8e%e5%ba%97-12/
LOCATION:天満屋ハピーズ 下中野店\, 下中野\, 岡山市北区703-101\, 岡山県\, 700-0973\, Japan
CATEGORIES:移動販売
END:VEVENT
BEGIN:VEVENT
DTSTART;TZID=Asia/Tokyo:20260405T120000
DTEND;TZID=Asia/Tokyo:20260405T200000
DTSTAMP:20260420T012903
CREATED:20260323T023621Z
LAST-MODIFIED:20260323T023621Z
UID:949-1775390400-1775419200@neo-lavenir.com
SUMMARY:移動販売@スーパーハリウッド富町
DESCRIPTION:取扱商品：たこ焼き
URL:https://neo-lavenir.com/event/%e7%a7%bb%e5%8b%95%e8%b2%a9%e5%a3%b2%e3%82%b9%e3%83%bc%e3%83%91%e3%83%bc%e3%83%8f%e3%83%aa%e3%82%a6%e3%83%83%e3%83%89%e5%af%8c%e7%94%ba-19/
LOCATION:スーパーハリウッド 富町\, 北区富町２丁目３−１０\, 岡山市\, 岡山県\, 700-0031\, Japan
CATEGORIES:移動販売
END:VEVENT
BEGIN:VEVENT
DTSTART;TZID=Asia/Tokyo:20260404T120000
DTEND;TZID=Asia/Tokyo:20260404T200000
DTSTAMP:20260420T012903
CREATED:20260323T023605Z
LAST-MODIFIED:20260323T023605Z
UID:947-1775304000-1775332800@neo-lavenir.com
SUMMARY:移動販売@スーパーハリウッド倉敷
DESCRIPTION:取扱商品：たこ焼き
URL:https://neo-lavenir.com/event/%e7%a7%bb%e5%8b%95%e8%b2%a9%e5%a3%b2%e3%82%b9%e3%83%bc%e3%83%91%e3%83%bc%e3%83%8f%e3%83%aa%e3%82%a6%e3%83%83%e3%83%89%e5%80%89%e6%95%b7-31/
LOCATION:スーパーハリウッド倉敷\, 松島1173-1\, 倉敷市\, 岡山県\, 701-0114\, 日本
CATEGORIES:移動販売
END:VEVENT
BEGIN:VEVENT
DTSTART;TZID=Asia/Tokyo:20260403T120000
DTEND;TZID=Asia/Tokyo:20260403T200000
DTSTAMP:20260420T012903
CREATED:20260323T023550Z
LAST-MODIFIED:20260323T023550Z
UID:945-1775217600-1775246400@neo-lavenir.com
SUMMARY:移動販売@ハリウッドⅢスター
DESCRIPTION:取扱商品：たこ焼き
URL:https://neo-lavenir.com/event/%e7%a7%bb%e5%8b%95%e8%b2%a9%e5%a3%b2%e3%83%8f%e3%83%aa%e3%82%a6%e3%83%83%e3%83%89%e2%85%b2%e3%82%b9%e3%82%bf%e3%83%bc-24/
LOCATION:ハリウッドⅢスター\, 生坂763-1\, 倉敷市\, 岡山県\, 710-0002\, 日本
CATEGORIES:移動販売
END:VEVENT
BEGIN:VEVENT
DTSTART;TZID=Asia/Tokyo:20260402T150000
DTEND;TZID=Asia/Tokyo:20260402T200000
DTSTAMP:20260420T012903
CREATED:20260323T023536Z
LAST-MODIFIED:20260323T023536Z
UID:943-1775142000-1775160000@neo-lavenir.com
SUMMARY:移動販売@天満屋ハピーズ 下中野店
DESCRIPTION:取扱商品：たこ焼き
URL:https://neo-lavenir.com/event/%e7%a7%bb%e5%8b%95%e8%b2%a9%e5%a3%b2%e5%a4%a9%e6%ba%80%e5%b1%8b%e3%83%8f%e3%83%94%e3%83%bc%e3%82%ba-%e4%b8%8b%e4%b8%ad%e9%87%8e%e5%ba%97-11/
LOCATION:天満屋ハピーズ 下中野店\, 下中野\, 岡山市北区703-101\, 岡山県\, 700-0973\, Japan
CATEGORIES:移動販売
END:VEVENT
BEGIN:VEVENT
DTSTART;TZID=Asia/Tokyo:20260331T120000
DTEND;TZID=Asia/Tokyo:20260331T200000
DTSTAMP:20260420T012903
CREATED:20260216T142447Z
LAST-MODIFIED:20260216T142447Z
UID:932-1774958400-1774987200@neo-lavenir.com
SUMMARY:移動販売@ハローズ中庄店
DESCRIPTION:取扱商品：たこ焼き
URL:https://neo-lavenir.com/event/%e7%a7%bb%e5%8b%95%e8%b2%a9%e5%a3%b2%e3%83%8f%e3%83%ad%e3%83%bc%e3%82%ba%e4%b8%ad%e5%ba%84%e5%ba%97-12/
LOCATION:ハローズ中庄店\, 松島971-1\, 倉敷市\, 岡山県\, 701-0114
CATEGORIES:移動販売
END:VEVENT
BEGIN:VEVENT
DTSTART;TZID=Asia/Tokyo:20260330T120000
DTEND;TZID=Asia/Tokyo:20260330T200000
DTSTAMP:20260420T012903
CREATED:20260216T142434Z
LAST-MODIFIED:20260216T142434Z
UID:930-1774872000-1774900800@neo-lavenir.com
SUMMARY:移動販売@ハローズ当新田店
DESCRIPTION:取扱商品：たこ焼き
URL:https://neo-lavenir.com/event/%e7%a7%bb%e5%8b%95%e8%b2%a9%e5%a3%b2%e3%83%8f%e3%83%ad%e3%83%bc%e3%82%ba%e5%bd%93%e6%96%b0%e7%94%b0%e5%ba%97-4/
LOCATION:ハローズ当新田店\, 当新田126-3\, 岡山市南区\, 岡山県\, 703-0956\, Japan
CATEGORIES:移動販売
END:VEVENT
BEGIN:VEVENT
DTSTART;TZID=Asia/Tokyo:20260329T120000
DTEND;TZID=Asia/Tokyo:20260329T200000
DTSTAMP:20260420T012903
CREATED:20260216T142638Z
LAST-MODIFIED:20260216T142638Z
UID:934-1774785600-1774814400@neo-lavenir.com
SUMMARY:移動販売@スーパーハリウッド富町
DESCRIPTION:取扱商品：たこ焼き
URL:https://neo-lavenir.com/event/%e7%a7%bb%e5%8b%95%e8%b2%a9%e5%a3%b2%e3%82%b9%e3%83%bc%e3%83%91%e3%83%bc%e3%83%8f%e3%83%aa%e3%82%a6%e3%83%83%e3%83%89%e5%af%8c%e7%94%ba-18/
LOCATION:スーパーハリウッド 富町\, 北区富町２丁目３−１０\, 岡山市\, 岡山県\, 700-0031\, Japan
CATEGORIES:移動販売
END:VEVENT
BEGIN:VEVENT
DTSTART;TZID=Asia/Tokyo:20260328T120000
DTEND;TZID=Asia/Tokyo:20260328T200000
DTSTAMP:20260420T012903
CREATED:20260216T142419Z
LAST-MODIFIED:20260228T162527Z
UID:928-1774699200-1774728000@neo-lavenir.com
SUMMARY:移動販売@スーパーハリウッド津山
DESCRIPTION:取扱商品：たこ焼き
URL:https://neo-lavenir.com/event/%e7%a7%bb%e5%8b%95%e8%b2%a9%e5%a3%b2%e3%82%b0%e3%83%ac%e3%83%bc%e3%83%88%e3%83%8f%e3%83%aa%e3%82%a6%e3%83%83%e3%83%89%e6%b4%a5%e5%b1%b1-34/
LOCATION:スーパーハリウッド津山\, 河辺９５２−１\, 津山市\, 岡山県\, 700-0842
CATEGORIES:移動販売
END:VEVENT
BEGIN:VEVENT
DTSTART;TZID=Asia/Tokyo:20260327T120000
DTEND;TZID=Asia/Tokyo:20260327T200000
DTSTAMP:20260420T012903
CREATED:20260216T142405Z
LAST-MODIFIED:20260216T142405Z
UID:926-1774612800-1774641600@neo-lavenir.com
SUMMARY:移動販売@スーパーハリウッド下中野
DESCRIPTION:取扱商品：たこ焼き
URL:https://neo-lavenir.com/event/%e7%a7%bb%e5%8b%95%e8%b2%a9%e5%a3%b2%e3%82%b9%e3%83%bc%e3%83%91%e3%83%bc%e3%83%8f%e3%83%aa%e3%82%a6%e3%83%83%e3%83%89%e4%b8%8b%e4%b8%ad%e9%87%8e-44/
LOCATION:スーパーハリウッド下中野\, 北区下中野３６０−１\, 岡山市\, 岡山県\, 700-0973\, 日本
CATEGORIES:移動販売
END:VEVENT
BEGIN:VEVENT
DTSTART;TZID=Asia/Tokyo:20260326T120000
DTEND;TZID=Asia/Tokyo:20260326T200000
DTSTAMP:20260420T012903
CREATED:20260216T142354Z
LAST-MODIFIED:20260216T142354Z
UID:924-1774526400-1774555200@neo-lavenir.com
SUMMARY:移動販売@スーパーハリウッド倉敷
DESCRIPTION:取扱商品：たこ焼き
URL:https://neo-lavenir.com/event/%e7%a7%bb%e5%8b%95%e8%b2%a9%e5%a3%b2%e3%82%b9%e3%83%bc%e3%83%91%e3%83%bc%e3%83%8f%e3%83%aa%e3%82%a6%e3%83%83%e3%83%89%e5%80%89%e6%95%b7-30/
LOCATION:スーパーハリウッド倉敷\, 松島1173-1\, 倉敷市\, 岡山県\, 701-0114\, 日本
CATEGORIES:移動販売
END:VEVENT
BEGIN:VEVENT
DTSTART;TZID=Asia/Tokyo:20260324T120000
DTEND;TZID=Asia/Tokyo:20260324T200000
DTSTAMP:20260420T012903
CREATED:20260216T142341Z
LAST-MODIFIED:20260216T142341Z
UID:922-1774353600-1774382400@neo-lavenir.com
SUMMARY:移動販売@ハローズ十日市店
DESCRIPTION:取扱商品：たこ焼き
URL:https://neo-lavenir.com/event/%e7%a7%bb%e5%8b%95%e8%b2%a9%e5%a3%b2%e3%83%8f%e3%83%ad%e3%83%bc%e3%82%ba%e5%8d%81%e6%97%a5%e5%b8%82%e5%ba%97-14/
LOCATION:ハローズ十日市店\, 十日市西町8-52-2\, 岡山市北区\, 岡山県\, 700-0856
CATEGORIES:移動販売
END:VEVENT
BEGIN:VEVENT
DTSTART;TZID=Asia/Tokyo:20260323T120000
DTEND;TZID=Asia/Tokyo:20260323T200000
DTSTAMP:20260420T012903
CREATED:20260216T142327Z
LAST-MODIFIED:20260216T142327Z
UID:920-1774267200-1774296000@neo-lavenir.com
SUMMARY:移動販売@ハリウッドⅢスター
DESCRIPTION:取扱商品：たこ焼き
URL:https://neo-lavenir.com/event/%e7%a7%bb%e5%8b%95%e8%b2%a9%e5%a3%b2%e3%83%8f%e3%83%aa%e3%82%a6%e3%83%83%e3%83%89%e2%85%b2%e3%82%b9%e3%82%bf%e3%83%bc-23/
LOCATION:ハリウッドⅢスター\, 生坂763-1\, 倉敷市\, 岡山県\, 710-0002\, 日本
CATEGORIES:移動販売
END:VEVENT
BEGIN:VEVENT
DTSTART;TZID=Asia/Tokyo:20260322T120000
DTEND;TZID=Asia/Tokyo:20260322T200000
DTSTAMP:20260420T012903
CREATED:20260216T142312Z
LAST-MODIFIED:20260216T142312Z
UID:918-1774180800-1774209600@neo-lavenir.com
SUMMARY:移動販売@スーパーハリウッド青江
DESCRIPTION:取扱商品：たこ焼き
URL:https://neo-lavenir.com/event/%e7%a7%bb%e5%8b%95%e8%b2%a9%e5%a3%b2%e3%82%b9%e3%83%bc%e3%83%91%e3%83%bc%e3%83%8f%e3%83%aa%e3%82%a6%e3%83%83%e3%83%89%e9%9d%92%e6%b1%9f-33/
LOCATION:スーパーハリウッド青江\, 北区青江２丁目７−４７\, 岡山市\, 岡山県\, 700-0941\, 日本
CATEGORIES:移動販売
END:VEVENT
BEGIN:VEVENT
DTSTART;TZID=Asia/Tokyo:20260321T120000
DTEND;TZID=Asia/Tokyo:20260321T200000
DTSTAMP:20260420T012903
CREATED:20260216T142251Z
LAST-MODIFIED:20260216T142251Z
UID:916-1774094400-1774123200@neo-lavenir.com
SUMMARY:移動販売@グレートハリウッド
DESCRIPTION:取扱商品：たこ焼き
URL:https://neo-lavenir.com/event/%e7%a7%bb%e5%8b%95%e8%b2%a9%e5%a3%b2%e3%82%b0%e3%83%ac%e3%83%bc%e3%83%88%e3%83%8f%e3%83%aa%e3%82%a6%e3%83%83%e3%83%89-15/
LOCATION:グレートハリウッド\, 下中野396-4\, 岡山市北区\, 岡山県\, 708-0821
CATEGORIES:移動販売
END:VEVENT
BEGIN:VEVENT
DTSTART;TZID=Asia/Tokyo:20260320T120000
DTEND;TZID=Asia/Tokyo:20260320T200000
DTSTAMP:20260420T012903
CREATED:20260216T142241Z
LAST-MODIFIED:20260216T142241Z
UID:914-1774008000-1774036800@neo-lavenir.com
SUMMARY:移動販売@グレートハリウッド
DESCRIPTION:取扱商品：たこ焼き
URL:https://neo-lavenir.com/event/%e7%a7%bb%e5%8b%95%e8%b2%a9%e5%a3%b2%e3%82%b0%e3%83%ac%e3%83%bc%e3%83%88%e3%83%8f%e3%83%aa%e3%82%a6%e3%83%83%e3%83%89-14/
LOCATION:グレートハリウッド\, 下中野396-4\, 岡山市北区\, 岡山県\, 708-0821
CATEGORIES:移動販売
END:VEVENT
BEGIN:VEVENT
DTSTART;TZID=Asia/Tokyo:20260318T120000
DTEND;TZID=Asia/Tokyo:20260318T200000
DTSTAMP:20260420T012903
CREATED:20260216T123731Z
LAST-MODIFIED:20260228T162600Z
UID:912-1773835200-1773864000@neo-lavenir.com
SUMMARY:移動販売@スーパーハリウッド津山
DESCRIPTION:取扱商品：たこ焼き
URL:https://neo-lavenir.com/event/%e7%a7%bb%e5%8b%95%e8%b2%a9%e5%a3%b2%e3%82%b0%e3%83%ac%e3%83%bc%e3%83%88%e3%83%8f%e3%83%aa%e3%82%a6%e3%83%83%e3%83%89%e6%b4%a5%e5%b1%b1-33/
LOCATION:スーパーハリウッド津山\, 河辺９５２−１\, 津山市\, 岡山県\, 700-0842
CATEGORIES:移動販売
END:VEVENT
BEGIN:VEVENT
DTSTART;TZID=Asia/Tokyo:20260317T120000
DTEND;TZID=Asia/Tokyo:20260317T200000
DTSTAMP:20260420T012903
CREATED:20260216T123709Z
LAST-MODIFIED:20260216T123709Z
UID:910-1773748800-1773777600@neo-lavenir.com
SUMMARY:移動販売@スーパーハリウッド下中野
DESCRIPTION:取扱商品：たこ焼き
URL:https://neo-lavenir.com/event/%e7%a7%bb%e5%8b%95%e8%b2%a9%e5%a3%b2%e3%82%b9%e3%83%bc%e3%83%91%e3%83%bc%e3%83%8f%e3%83%aa%e3%82%a6%e3%83%83%e3%83%89%e4%b8%8b%e4%b8%ad%e9%87%8e-43/
LOCATION:スーパーハリウッド下中野\, 北区下中野３６０−１\, 岡山市\, 岡山県\, 700-0973\, 日本
CATEGORIES:移動販売
END:VEVENT
BEGIN:VEVENT
DTSTART;TZID=Asia/Tokyo:20260316T120000
DTEND;TZID=Asia/Tokyo:20260316T200000
DTSTAMP:20260420T012903
CREATED:20260216T123642Z
LAST-MODIFIED:20260216T123642Z
UID:908-1773662400-1773691200@neo-lavenir.com
SUMMARY:移動販売@ハリウッド東岡山【周年】
DESCRIPTION:取扱商品：たこ焼き
URL:https://neo-lavenir.com/event/%e7%a7%bb%e5%8b%95%e8%b2%a9%e5%a3%b2%e3%83%8f%e3%83%aa%e3%82%a6%e3%83%83%e3%83%89%e6%9d%b1%e5%b2%a1%e5%b1%b1%e3%80%90%e5%91%a8%e5%b9%b4%e3%80%91/
LOCATION:ハリウッド東岡山\, 神下145-1\, 岡山市中区\, 岡山県\, 703-8225\, 日本
CATEGORIES:移動販売
END:VEVENT
BEGIN:VEVENT
DTSTART;TZID=Asia/Tokyo:20260315T120000
DTEND;TZID=Asia/Tokyo:20260315T200000
DTSTAMP:20260420T012903
CREATED:20260216T123547Z
LAST-MODIFIED:20260216T123547Z
UID:906-1773576000-1773604800@neo-lavenir.com
SUMMARY:移動販売@スーパーハリウッド富町
DESCRIPTION:取扱商品：たこ焼き
URL:https://neo-lavenir.com/event/%e7%a7%bb%e5%8b%95%e8%b2%a9%e5%a3%b2%e3%82%b9%e3%83%bc%e3%83%91%e3%83%bc%e3%83%8f%e3%83%aa%e3%82%a6%e3%83%83%e3%83%89%e5%af%8c%e7%94%ba-17/
LOCATION:スーパーハリウッド 富町\, 北区富町２丁目３−１０\, 岡山市\, 岡山県\, 700-0031\, Japan
CATEGORIES:移動販売
END:VEVENT
BEGIN:VEVENT
DTSTART;TZID=Asia/Tokyo:20260314T120000
DTEND;TZID=Asia/Tokyo:20260314T200000
DTSTAMP:20260420T012903
CREATED:20260216T123523Z
LAST-MODIFIED:20260216T123523Z
UID:904-1773489600-1773518400@neo-lavenir.com
SUMMARY:移動販売@グレートハリウッド
DESCRIPTION:取扱商品：たこ焼き
URL:https://neo-lavenir.com/event/%e7%a7%bb%e5%8b%95%e8%b2%a9%e5%a3%b2%e3%82%b0%e3%83%ac%e3%83%bc%e3%83%88%e3%83%8f%e3%83%aa%e3%82%a6%e3%83%83%e3%83%89-13/
LOCATION:グレートハリウッド\, 下中野396-4\, 岡山市北区\, 岡山県\, 708-0821
CATEGORIES:移動販売
END:VEVENT
BEGIN:VEVENT
DTSTART;TZID=Asia/Tokyo:20260313T120000
DTEND;TZID=Asia/Tokyo:20260313T200000
DTSTAMP:20260420T012903
CREATED:20260216T123422Z
LAST-MODIFIED:20260216T123422Z
UID:902-1773403200-1773432000@neo-lavenir.com
SUMMARY:移動販売@ハリウッドⅢスター
DESCRIPTION:取扱商品：たこ焼き
URL:https://neo-lavenir.com/event/%e7%a7%bb%e5%8b%95%e8%b2%a9%e5%a3%b2%e3%83%8f%e3%83%aa%e3%82%a6%e3%83%83%e3%83%89%e2%85%b2%e3%82%b9%e3%82%bf%e3%83%bc-22/
LOCATION:ハリウッドⅢスター\, 生坂763-1\, 倉敷市\, 岡山県\, 710-0002\, 日本
CATEGORIES:移動販売
END:VEVENT
BEGIN:VEVENT
DTSTART;TZID=Asia/Tokyo:20260309T120000
DTEND;TZID=Asia/Tokyo:20260309T200000
DTSTAMP:20260420T012903
CREATED:20260216T123404Z
LAST-MODIFIED:20260216T123404Z
UID:900-1773057600-1773086400@neo-lavenir.com
SUMMARY:移動販売@ハローズ中庄店
DESCRIPTION:取扱商品：たこ焼き
URL:https://neo-lavenir.com/event/%e7%a7%bb%e5%8b%95%e8%b2%a9%e5%a3%b2%e3%83%8f%e3%83%ad%e3%83%bc%e3%82%ba%e4%b8%ad%e5%ba%84%e5%ba%97-11/
LOCATION:ハローズ中庄店\, 松島971-1\, 倉敷市\, 岡山県\, 701-0114
CATEGORIES:移動販売
END:VEVENT
BEGIN:VEVENT
DTSTART;TZID=Asia/Tokyo:20260308T120000
DTEND;TZID=Asia/Tokyo:20260308T200000
DTSTAMP:20260420T012903
CREATED:20260216T123341Z
LAST-MODIFIED:20260228T162620Z
UID:898-1772971200-1773000000@neo-lavenir.com
SUMMARY:移動販売@スーパーハリウッド津山
DESCRIPTION:取扱商品：たこ焼き
URL:https://neo-lavenir.com/event/%e7%a7%bb%e5%8b%95%e8%b2%a9%e5%a3%b2%e3%82%b0%e3%83%ac%e3%83%bc%e3%83%88%e3%83%8f%e3%83%aa%e3%82%a6%e3%83%83%e3%83%89%e6%b4%a5%e5%b1%b1-32/
LOCATION:スーパーハリウッド津山\, 河辺９５２−１\, 津山市\, 岡山県\, 700-0842
CATEGORIES:移動販売
END:VEVENT
BEGIN:VEVENT
DTSTART;TZID=Asia/Tokyo:20260307T120000
DTEND;TZID=Asia/Tokyo:20260307T200000
DTSTAMP:20260420T012903
CREATED:20260216T123319Z
LAST-MODIFIED:20260216T123319Z
UID:896-1772884800-1772913600@neo-lavenir.com
SUMMARY:移動販売@スーパーハリウッド下中野
DESCRIPTION:取扱商品：たこ焼き
URL:https://neo-lavenir.com/event/%e7%a7%bb%e5%8b%95%e8%b2%a9%e5%a3%b2%e3%82%b9%e3%83%bc%e3%83%91%e3%83%bc%e3%83%8f%e3%83%aa%e3%82%a6%e3%83%83%e3%83%89%e4%b8%8b%e4%b8%ad%e9%87%8e-42/
LOCATION:スーパーハリウッド下中野\, 北区下中野３６０−１\, 岡山市\, 岡山県\, 700-0973\, 日本
CATEGORIES:移動販売
END:VEVENT
BEGIN:VEVENT
DTSTART;TZID=Asia/Tokyo:20260306T120000
DTEND;TZID=Asia/Tokyo:20260306T200000
DTSTAMP:20260420T012903
CREATED:20260216T123305Z
LAST-MODIFIED:20260216T123305Z
UID:894-1772798400-1772827200@neo-lavenir.com
SUMMARY:移動販売@ハローズ当新田店
DESCRIPTION:取扱商品：たこ焼き
URL:https://neo-lavenir.com/event/%e7%a7%bb%e5%8b%95%e8%b2%a9%e5%a3%b2%e3%83%8f%e3%83%ad%e3%83%bc%e3%82%ba%e5%bd%93%e6%96%b0%e7%94%b0%e5%ba%97-3/
LOCATION:ハローズ当新田店\, 当新田126-3\, 岡山市南区\, 岡山県\, 703-0956\, Japan
CATEGORIES:移動販売
END:VEVENT
BEGIN:VEVENT
DTSTART;TZID=Asia/Tokyo:20260305T150000
DTEND;TZID=Asia/Tokyo:20260305T200000
DTSTAMP:20260420T012903
CREATED:20260216T123252Z
LAST-MODIFIED:20260216T123252Z
UID:892-1772722800-1772740800@neo-lavenir.com
SUMMARY:移動販売@天満屋ハピーズ 下中野店
DESCRIPTION:取扱商品：たこ焼き
URL:https://neo-lavenir.com/event/%e7%a7%bb%e5%8b%95%e8%b2%a9%e5%a3%b2%e5%a4%a9%e6%ba%80%e5%b1%8b%e3%83%8f%e3%83%94%e3%83%bc%e3%82%ba-%e4%b8%8b%e4%b8%ad%e9%87%8e%e5%ba%97-10/
LOCATION:天満屋ハピーズ 下中野店\, 下中野\, 岡山市北区703-101\, 岡山県\, 700-0973\, Japan
CATEGORIES:移動販売
END:VEVENT
BEGIN:VEVENT
DTSTART;TZID=Asia/Tokyo:20260303T120000
DTEND;TZID=Asia/Tokyo:20260303T200000
DTSTAMP:20260420T012903
CREATED:20260216T123133Z
LAST-MODIFIED:20260216T123133Z
UID:888-1772539200-1772568000@neo-lavenir.com
SUMMARY:移動販売@スーパーハリウッド倉敷
DESCRIPTION:取扱商品：たこ焼き
URL:https://neo-lavenir.com/event/%e7%a7%bb%e5%8b%95%e8%b2%a9%e5%a3%b2%e3%82%b9%e3%83%bc%e3%83%91%e3%83%bc%e3%83%8f%e3%83%aa%e3%82%a6%e3%83%83%e3%83%89%e5%80%89%e6%95%b7-29/
LOCATION:スーパーハリウッド倉敷\, 松島1173-1\, 倉敷市\, 岡山県\, 701-0114\, 日本
CATEGORIES:移動販売
END:VEVENT
BEGIN:VEVENT
DTSTART;TZID=Asia/Tokyo:20260302T120000
DTEND;TZID=Asia/Tokyo:20260302T200000
DTSTAMP:20260420T012903
CREATED:20260216T123021Z
LAST-MODIFIED:20260216T123021Z
UID:886-1772452800-1772481600@neo-lavenir.com
SUMMARY:移動販売@ハローズ十日市店
DESCRIPTION:取扱商品：たこ焼き
URL:https://neo-lavenir.com/event/%e7%a7%bb%e5%8b%95%e8%b2%a9%e5%a3%b2%e3%83%8f%e3%83%ad%e3%83%bc%e3%82%ba%e5%8d%81%e6%97%a5%e5%b8%82%e5%ba%97-13/
LOCATION:ハローズ十日市店\, 十日市西町8-52-2\, 岡山市北区\, 岡山県\, 700-0856
CATEGORIES:移動販売
END:VEVENT
END:VCALENDAR