BEGIN:VCALENDAR
VERSION:2.0
PRODID:-//L‘Avenir（ラブニール） - ECPv6.4.0.1//NONSGML v1.0//EN
CALSCALE:GREGORIAN
METHOD:PUBLISH
X-ORIGINAL-URL:https://neo-lavenir.com
X-WR-CALDESC:L‘Avenir（ラブニール） のイベント
REFRESH-INTERVAL;VALUE=DURATION:PT1H
X-Robots-Tag:noindex
X-PUBLISHED-TTL:PT1H
BEGIN:VTIMEZONE
TZID:Asia/Tokyo
BEGIN:STANDARD
TZOFFSETFROM:+0900
TZOFFSETTO:+0900
TZNAME:JST
DTSTART:20250101T000000
END:STANDARD
END:VTIMEZONE
BEGIN:VEVENT
DTSTART;TZID=Asia/Tokyo:20250712T120000
DTEND;TZID=Asia/Tokyo:20250712T200000
DTSTAMP:20260420T170350
CREATED:20250615T153803Z
LAST-MODIFIED:20250615T153803Z
UID:476-1752321600-1752350400@neo-lavenir.com
SUMMARY:移動販売@グレートハリウッド津山
DESCRIPTION:取扱商品：たこ焼き
URL:https://neo-lavenir.com/event/%e7%a7%bb%e5%8b%95%e8%b2%a9%e5%a3%b2%e3%82%b0%e3%83%ac%e3%83%bc%e3%83%88%e3%83%8f%e3%83%aa%e3%82%a6%e3%83%83%e3%83%89%e6%b4%a5%e5%b1%b1-12/
LOCATION:グレートハリウッド津山\, 野介代50-1\, 津山市\, 岡山県\, 708-0821\, 日本
CATEGORIES:移動販売
END:VEVENT
BEGIN:VEVENT
DTSTART;TZID=Asia/Tokyo:20250713T120000
DTEND;TZID=Asia/Tokyo:20250713T200000
DTSTAMP:20260420T170350
CREATED:20250615T153827Z
LAST-MODIFIED:20250615T153827Z
UID:478-1752408000-1752436800@neo-lavenir.com
SUMMARY:移動販売@スーパーハリウッド青江
DESCRIPTION:取扱商品：たこ焼き
URL:https://neo-lavenir.com/event/%e7%a7%bb%e5%8b%95%e8%b2%a9%e5%a3%b2%e3%82%b9%e3%83%bc%e3%83%91%e3%83%bc%e3%83%8f%e3%83%aa%e3%82%a6%e3%83%83%e3%83%89%e9%9d%92%e6%b1%9f-17/
LOCATION:スーパーハリウッド青江\, 北区青江２丁目７−４７\, 岡山市\, 岡山県\, 700-0941\, 日本
CATEGORIES:移動販売
END:VEVENT
BEGIN:VEVENT
DTSTART;TZID=Asia/Tokyo:20250717T120000
DTEND;TZID=Asia/Tokyo:20250717T200000
DTSTAMP:20260420T170350
CREATED:20250615T153850Z
LAST-MODIFIED:20250615T153850Z
UID:480-1752753600-1752782400@neo-lavenir.com
SUMMARY:移動販売@スーパーハリウッド下中野
DESCRIPTION:取扱商品：たこ焼き
URL:https://neo-lavenir.com/event/%e7%a7%bb%e5%8b%95%e8%b2%a9%e5%a3%b2%e3%82%b9%e3%83%bc%e3%83%91%e3%83%bc%e3%83%8f%e3%83%aa%e3%82%a6%e3%83%83%e3%83%89%e4%b8%8b%e4%b8%ad%e9%87%8e-20/
LOCATION:スーパーハリウッド下中野\, 北区下中野３６０−１\, 岡山市\, 岡山県\, 700-0973\, 日本
CATEGORIES:移動販売
END:VEVENT
BEGIN:VEVENT
DTSTART;TZID=Asia/Tokyo:20250718T120000
DTEND;TZID=Asia/Tokyo:20250718T200000
DTSTAMP:20260420T170350
CREATED:20250615T153902Z
LAST-MODIFIED:20250615T153902Z
UID:482-1752840000-1752868800@neo-lavenir.com
SUMMARY:移動販売@スーパーハリウッド下中野
DESCRIPTION:取扱商品：たこ焼き
URL:https://neo-lavenir.com/event/%e7%a7%bb%e5%8b%95%e8%b2%a9%e5%a3%b2%e3%82%b9%e3%83%bc%e3%83%91%e3%83%bc%e3%83%8f%e3%83%aa%e3%82%a6%e3%83%83%e3%83%89%e4%b8%8b%e4%b8%ad%e9%87%8e-21/
LOCATION:スーパーハリウッド下中野\, 北区下中野３６０−１\, 岡山市\, 岡山県\, 700-0973\, 日本
CATEGORIES:移動販売
END:VEVENT
BEGIN:VEVENT
DTSTART;TZID=Asia/Tokyo:20250719T120000
DTEND;TZID=Asia/Tokyo:20250719T200000
DTSTAMP:20260420T170350
CREATED:20250615T153929Z
LAST-MODIFIED:20250615T153929Z
UID:484-1752926400-1752955200@neo-lavenir.com
SUMMARY:移動販売@ハリウッド東岡山
DESCRIPTION:取扱商品：たこ焼き
URL:https://neo-lavenir.com/event/%e7%a7%bb%e5%8b%95%e8%b2%a9%e5%a3%b2%e3%83%8f%e3%83%aa%e3%82%a6%e3%83%83%e3%83%89%e6%9d%b1%e5%b2%a1%e5%b1%b1-15/
LOCATION:ハリウッド東岡山\, 神下145-1\, 岡山市中区\, 岡山県\, 703-8225\, 日本
CATEGORIES:移動販売
END:VEVENT
BEGIN:VEVENT
DTSTART;TZID=Asia/Tokyo:20250720T120000
DTEND;TZID=Asia/Tokyo:20250720T200000
DTSTAMP:20260420T170350
CREATED:20250615T153952Z
LAST-MODIFIED:20250615T153952Z
UID:486-1753012800-1753041600@neo-lavenir.com
SUMMARY:移動販売@グレートハリウッド津山
DESCRIPTION:取扱商品：たこ焼き
URL:https://neo-lavenir.com/event/%e7%a7%bb%e5%8b%95%e8%b2%a9%e5%a3%b2%e3%82%b0%e3%83%ac%e3%83%bc%e3%83%88%e3%83%8f%e3%83%aa%e3%82%a6%e3%83%83%e3%83%89%e6%b4%a5%e5%b1%b1-13/
LOCATION:グレートハリウッド津山\, 野介代50-1\, 津山市\, 岡山県\, 708-0821\, 日本
CATEGORIES:移動販売
END:VEVENT
BEGIN:VEVENT
DTSTART;TZID=Asia/Tokyo:20250721T120000
DTEND;TZID=Asia/Tokyo:20250721T200000
DTSTAMP:20260420T170350
CREATED:20250615T154015Z
LAST-MODIFIED:20250615T154015Z
UID:488-1753099200-1753128000@neo-lavenir.com
SUMMARY:移動販売@スーパーハリウッド富町
DESCRIPTION:取扱商品：たこ焼き
URL:https://neo-lavenir.com/event/%e7%a7%bb%e5%8b%95%e8%b2%a9%e5%a3%b2%e3%82%b9%e3%83%bc%e3%83%91%e3%83%bc%e3%83%8f%e3%83%aa%e3%82%a6%e3%83%83%e3%83%89%e5%af%8c%e7%94%ba-7/
LOCATION:スーパーハリウッド 富町\, 北区富町２丁目３−１０\, 岡山市\, 岡山県\, 700-0031\, Japan
CATEGORIES:移動販売
END:VEVENT
BEGIN:VEVENT
DTSTART;TZID=Asia/Tokyo:20250726T120000
DTEND;TZID=Asia/Tokyo:20250726T200000
DTSTAMP:20260420T170350
CREATED:20250615T154043Z
LAST-MODIFIED:20250615T154043Z
UID:490-1753531200-1753560000@neo-lavenir.com
SUMMARY:移動販売@スーパーハリウッド倉敷
DESCRIPTION:取扱商品：たこ焼き
URL:https://neo-lavenir.com/event/%e7%a7%bb%e5%8b%95%e8%b2%a9%e5%a3%b2%e3%82%b9%e3%83%bc%e3%83%91%e3%83%bc%e3%83%8f%e3%83%aa%e3%82%a6%e3%83%83%e3%83%89%e5%80%89%e6%95%b7-12/
LOCATION:スーパーハリウッド倉敷\, 松島1173-1\, 倉敷市\, 岡山県\, 701-0114\, 日本
CATEGORIES:移動販売
END:VEVENT
BEGIN:VEVENT
DTSTART;TZID=Asia/Tokyo:20250727T120000
DTEND;TZID=Asia/Tokyo:20250727T200000
DTSTAMP:20260420T170350
CREATED:20250615T154121Z
LAST-MODIFIED:20250724T101630Z
UID:492-1753617600-1753646400@neo-lavenir.com
SUMMARY:移動販売@グレートハリウッド
DESCRIPTION:取扱商品：たこ焼き
URL:https://neo-lavenir.com/event/%e7%a7%bb%e5%8b%95%e8%b2%a9%e5%a3%b2%e3%82%b0%e3%83%ac%e3%83%bc%e3%83%88%e3%83%8f%e3%83%aa%e3%82%a6%e3%83%83%e3%83%89-2/
LOCATION:グレートハリウッド\, 下中野396-4\, 岡山市北区\, 岡山県\, 708-0821
CATEGORIES:移動販売
END:VEVENT
BEGIN:VEVENT
DTSTART;TZID=Asia/Tokyo:20250801T120000
DTEND;TZID=Asia/Tokyo:20250801T200000
DTSTAMP:20260420T170350
CREATED:20250710T064429Z
LAST-MODIFIED:20250710T064429Z
UID:520-1754049600-1754078400@neo-lavenir.com
SUMMARY:移動販売@ハローズ中庄店
DESCRIPTION:取扱商品：たこ焼き
URL:https://neo-lavenir.com/event/%e7%a7%bb%e5%8b%95%e8%b2%a9%e5%a3%b2%e3%83%8f%e3%83%ad%e3%83%bc%e3%82%ba%e4%b8%ad%e5%ba%84%e5%ba%97-2/
LOCATION:ハローズ中庄店\, 松島971-1\, 倉敷市\, 岡山県\, 701-0114
CATEGORIES:移動販売
END:VEVENT
BEGIN:VEVENT
DTSTART;TZID=Asia/Tokyo:20250802T120000
DTEND;TZID=Asia/Tokyo:20250802T200000
DTSTAMP:20260420T170350
CREATED:20250710T064052Z
LAST-MODIFIED:20250710T064052Z
UID:508-1754136000-1754164800@neo-lavenir.com
SUMMARY:移動販売@スーパーハリウッド1000 福山
DESCRIPTION:取扱商品：たこ焼き
URL:https://neo-lavenir.com/event/%e7%a7%bb%e5%8b%95%e8%b2%a9%e5%a3%b2%e3%82%b9%e3%83%bc%e3%83%91%e3%83%bc%e3%83%8f%e3%83%aa%e3%82%a6%e3%83%83%e3%83%891000-%e7%a6%8f%e5%b1%b1-13/
LOCATION:スーパーハリウッド1000 福山\, 東深津町３丁目１４−１\, 福山市\, 広島県\, 721-0974\, 日本
CATEGORIES:移動販売
END:VEVENT
BEGIN:VEVENT
DTSTART;TZID=Asia/Tokyo:20250803T120000
DTEND;TZID=Asia/Tokyo:20250803T200000
DTSTAMP:20260420T170350
CREATED:20250710T064112Z
LAST-MODIFIED:20250710T064112Z
UID:510-1754222400-1754251200@neo-lavenir.com
SUMMARY:移動販売@ハリウッドⅢスター
DESCRIPTION:取扱商品：たこ焼き
URL:https://neo-lavenir.com/event/%e7%a7%bb%e5%8b%95%e8%b2%a9%e5%a3%b2%e3%83%8f%e3%83%aa%e3%82%a6%e3%83%83%e3%83%89%e2%85%b2%e3%82%b9%e3%82%bf%e3%83%bc-10/
LOCATION:ハリウッドⅢスター\, 生坂763-1\, 倉敷市\, 岡山県\, 710-0002\, 日本
CATEGORIES:移動販売
END:VEVENT
BEGIN:VEVENT
DTSTART;TZID=Asia/Tokyo:20250804T120000
DTEND;TZID=Asia/Tokyo:20250804T200000
DTSTAMP:20260420T170350
CREATED:20250710T064010Z
LAST-MODIFIED:20250710T064142Z
UID:495-1754308800-1754337600@neo-lavenir.com
SUMMARY:移動販売@ハローズ十日市店
DESCRIPTION:取扱商品：たこ焼き
URL:https://neo-lavenir.com/event/%e7%a7%bb%e5%8b%95%e8%b2%a9%e5%a3%b2%e3%83%8f%e3%83%ad%e3%83%bc%e3%82%ba%e4%b8%ad%e5%ba%84%e5%ba%97/
LOCATION:ハローズ十日市店\, 十日市西町8-52-2\, 岡山市北区\, 岡山県\, 700-0856
CATEGORIES:移動販売
END:VEVENT
BEGIN:VEVENT
DTSTART;TZID=Asia/Tokyo:20250805T120000
DTEND;TZID=Asia/Tokyo:20250805T200000
DTSTAMP:20260420T170350
CREATED:20250723T065429Z
LAST-MODIFIED:20250723T065429Z
UID:549-1754395200-1754424000@neo-lavenir.com
SUMMARY:移動販売@天満屋ハピーズ 大安寺店
DESCRIPTION:取扱商品：たこ焼き
URL:https://neo-lavenir.com/event/%e7%a7%bb%e5%8b%95%e8%b2%a9%e5%a3%b2%e5%a4%a9%e6%ba%80%e5%b1%8b%e3%83%8f%e3%83%94%e3%83%bc%e3%82%ba-%e5%a4%a7%e5%ae%89%e5%af%ba%e5%ba%97/
LOCATION:天満屋ハピーズ 大安寺店\, 殿西町329-1\, 岡山市北区\, 岡山県\, 700-0066\, Japan
CATEGORIES:移動販売
END:VEVENT
BEGIN:VEVENT
DTSTART;TZID=Asia/Tokyo:20250807T120000
DTEND;TZID=Asia/Tokyo:20250807T200000
DTSTAMP:20260420T170350
CREATED:20250723T065509Z
LAST-MODIFIED:20250723T065509Z
UID:553-1754568000-1754596800@neo-lavenir.com
SUMMARY:移動販売@スーパーハリウッド下中野
DESCRIPTION:取扱商品：たこ焼き
URL:https://neo-lavenir.com/event/%e7%a7%bb%e5%8b%95%e8%b2%a9%e5%a3%b2%e3%82%b9%e3%83%bc%e3%83%91%e3%83%bc%e3%83%8f%e3%83%aa%e3%82%a6%e3%83%83%e3%83%89%e4%b8%8b%e4%b8%ad%e9%87%8e-24/
LOCATION:スーパーハリウッド下中野\, 北区下中野３６０−１\, 岡山市\, 岡山県\, 700-0973\, 日本
CATEGORIES:移動販売
END:VEVENT
BEGIN:VEVENT
DTSTART;TZID=Asia/Tokyo:20250808T120000
DTEND;TZID=Asia/Tokyo:20250808T200000
DTSTAMP:20260420T170350
CREATED:20250723T065522Z
LAST-MODIFIED:20250723T065522Z
UID:555-1754654400-1754683200@neo-lavenir.com
SUMMARY:移動販売@スーパーハリウッド倉敷
DESCRIPTION:取扱商品：たこ焼き
URL:https://neo-lavenir.com/event/%e7%a7%bb%e5%8b%95%e8%b2%a9%e5%a3%b2%e3%82%b9%e3%83%bc%e3%83%91%e3%83%bc%e3%83%8f%e3%83%aa%e3%82%a6%e3%83%83%e3%83%89%e5%80%89%e6%95%b7-14/
LOCATION:スーパーハリウッド倉敷\, 松島1173-1\, 倉敷市\, 岡山県\, 701-0114\, 日本
CATEGORIES:移動販売
END:VEVENT
BEGIN:VEVENT
DTSTART;TZID=Asia/Tokyo:20250809T120000
DTEND;TZID=Asia/Tokyo:20250809T200000
DTSTAMP:20260420T170350
CREATED:20250724T101726Z
LAST-MODIFIED:20250724T101726Z
UID:563-1754740800-1754769600@neo-lavenir.com
SUMMARY:移動販売@グレートハリウッド
DESCRIPTION:取扱商品：たこ焼き
URL:https://neo-lavenir.com/event/%e7%a7%bb%e5%8b%95%e8%b2%a9%e5%a3%b2%e3%82%b0%e3%83%ac%e3%83%bc%e3%83%88%e3%83%8f%e3%83%aa%e3%82%a6%e3%83%83%e3%83%89-3/
LOCATION:グレートハリウッド\, 下中野396-4\, 岡山市北区\, 岡山県\, 708-0821
CATEGORIES:移動販売
END:VEVENT
BEGIN:VEVENT
DTSTART;TZID=Asia/Tokyo:20250810T120000
DTEND;TZID=Asia/Tokyo:20250810T200000
DTSTAMP:20260420T170350
CREATED:20250723T065536Z
LAST-MODIFIED:20250723T065536Z
UID:557-1754827200-1754856000@neo-lavenir.com
SUMMARY:移動販売@スーパーハリウッド1000 福山
DESCRIPTION:取扱商品：たこ焼き
URL:https://neo-lavenir.com/event/%e7%a7%bb%e5%8b%95%e8%b2%a9%e5%a3%b2%e3%82%b9%e3%83%bc%e3%83%91%e3%83%bc%e3%83%8f%e3%83%aa%e3%82%a6%e3%83%83%e3%83%891000-%e7%a6%8f%e5%b1%b1-14/
LOCATION:スーパーハリウッド1000 福山\, 東深津町３丁目１４−１\, 福山市\, 広島県\, 721-0974\, 日本
CATEGORIES:移動販売
END:VEVENT
BEGIN:VEVENT
DTSTART;TZID=Asia/Tokyo:20250811T120000
DTEND;TZID=Asia/Tokyo:20250811T200000
DTSTAMP:20260420T170350
CREATED:20250724T101801Z
LAST-MODIFIED:20250724T101801Z
UID:569-1754913600-1754942400@neo-lavenir.com
SUMMARY:移動販売@スーパーハリウッド青江
DESCRIPTION:取扱商品：たこ焼き
URL:https://neo-lavenir.com/event/%e7%a7%bb%e5%8b%95%e8%b2%a9%e5%a3%b2%e3%82%b9%e3%83%bc%e3%83%91%e3%83%bc%e3%83%8f%e3%83%aa%e3%82%a6%e3%83%83%e3%83%89%e9%9d%92%e6%b1%9f-18/
LOCATION:スーパーハリウッド青江\, 北区青江２丁目７−４７\, 岡山市\, 岡山県\, 700-0941\, 日本
CATEGORIES:移動販売
END:VEVENT
BEGIN:VEVENT
DTSTART;TZID=Asia/Tokyo:20250812T120000
DTEND;TZID=Asia/Tokyo:20250812T200000
DTSTAMP:20260420T170350
CREATED:20250724T101816Z
LAST-MODIFIED:20250724T101816Z
UID:571-1755000000-1755028800@neo-lavenir.com
SUMMARY:移動販売@スーパーハリウッド青江
DESCRIPTION:取扱商品：たこ焼き
URL:https://neo-lavenir.com/event/%e7%a7%bb%e5%8b%95%e8%b2%a9%e5%a3%b2%e3%82%b9%e3%83%bc%e3%83%91%e3%83%bc%e3%83%8f%e3%83%aa%e3%82%a6%e3%83%83%e3%83%89%e9%9d%92%e6%b1%9f-19/
LOCATION:スーパーハリウッド青江\, 北区青江２丁目７−４７\, 岡山市\, 岡山県\, 700-0941\, 日本
CATEGORIES:移動販売
END:VEVENT
BEGIN:VEVENT
DTSTART;TZID=Asia/Tokyo:20250814T120000
DTEND;TZID=Asia/Tokyo:20250814T200000
DTSTAMP:20260420T170350
CREATED:20250724T101839Z
LAST-MODIFIED:20250724T101839Z
UID:573-1755172800-1755201600@neo-lavenir.com
SUMMARY:移動販売@グレートハリウッド
DESCRIPTION:取扱商品：たこ焼き
URL:https://neo-lavenir.com/event/%e7%a7%bb%e5%8b%95%e8%b2%a9%e5%a3%b2%e3%82%b0%e3%83%ac%e3%83%bc%e3%83%88%e3%83%8f%e3%83%aa%e3%82%a6%e3%83%83%e3%83%89-4/
LOCATION:グレートハリウッド\, 下中野396-4\, 岡山市北区\, 岡山県\, 708-0821
CATEGORIES:移動販売
END:VEVENT
BEGIN:VEVENT
DTSTART;TZID=Asia/Tokyo:20250815T120000
DTEND;TZID=Asia/Tokyo:20250815T200000
DTSTAMP:20260420T170350
CREATED:20250723T065615Z
LAST-MODIFIED:20250723T065615Z
UID:559-1755259200-1755288000@neo-lavenir.com
SUMMARY:移動販売@天満屋ハピーズ 津島店
DESCRIPTION:取扱商品：たこ焼き
URL:https://neo-lavenir.com/event/%e7%a7%bb%e5%8b%95%e8%b2%a9%e5%a3%b2%e5%a4%a9%e6%ba%80%e5%b1%8b%e3%83%8f%e3%83%94%e3%83%bc%e3%82%ba-%e6%b4%a5%e5%b3%b6%e5%ba%97/
LOCATION:天満屋ハピーズ 津島店\, 津島桑の木町5-1\, 岡山市北区\, 岡山県\, 700-0084\, Japan
CATEGORIES:移動販売
END:VEVENT
BEGIN:VEVENT
DTSTART;TZID=Asia/Tokyo:20250816T120000
DTEND;TZID=Asia/Tokyo:20250816T200000
DTSTAMP:20260420T170350
CREATED:20250710T064225Z
LAST-MODIFIED:20250710T064225Z
UID:513-1755345600-1755374400@neo-lavenir.com
SUMMARY:移動販売@ハリウッド東岡山
DESCRIPTION:取扱商品：たこ焼き
URL:https://neo-lavenir.com/event/%e7%a7%bb%e5%8b%95%e8%b2%a9%e5%a3%b2%e3%83%8f%e3%83%aa%e3%82%a6%e3%83%83%e3%83%89%e6%9d%b1%e5%b2%a1%e5%b1%b1-16/
LOCATION:ハリウッド東岡山\, 神下145-1\, 岡山市中区\, 岡山県\, 703-8225\, 日本
CATEGORIES:移動販売
END:VEVENT
BEGIN:VEVENT
DTSTART;TZID=Asia/Tokyo:20250817T120000
DTEND;TZID=Asia/Tokyo:20250817T200000
DTSTAMP:20260420T170350
CREATED:20250710T064241Z
LAST-MODIFIED:20250710T064241Z
UID:515-1755432000-1755460800@neo-lavenir.com
SUMMARY:移動販売@スーパーハリウッド下中野
DESCRIPTION:取扱商品：たこ焼き
URL:https://neo-lavenir.com/event/%e7%a7%bb%e5%8b%95%e8%b2%a9%e5%a3%b2%e3%82%b9%e3%83%bc%e3%83%91%e3%83%bc%e3%83%8f%e3%83%aa%e3%82%a6%e3%83%83%e3%83%89%e4%b8%8b%e4%b8%ad%e9%87%8e-22/
LOCATION:スーパーハリウッド下中野\, 北区下中野３６０−１\, 岡山市\, 岡山県\, 700-0973\, 日本
CATEGORIES:移動販売
END:VEVENT
BEGIN:VEVENT
DTSTART;TZID=Asia/Tokyo:20250818T120000
DTEND;TZID=Asia/Tokyo:20250818T200000
DTSTAMP:20260420T170350
CREATED:20250710T064309Z
LAST-MODIFIED:20250710T064309Z
UID:517-1755518400-1755547200@neo-lavenir.com
SUMMARY:移動販売@ハローズ花尻店
DESCRIPTION:取扱商品：たこ焼き
URL:https://neo-lavenir.com/event/%e7%a7%bb%e5%8b%95%e8%b2%a9%e5%a3%b2%e3%83%8f%e3%83%ad%e3%83%bc%e3%82%ba%e8%8a%b1%e5%b0%bb%e5%ba%97/
LOCATION:ハローズ花尻店\, 白石西新町9-116\, 岡山市北区\, 岡山県\, 701-0142
CATEGORIES:移動販売
END:VEVENT
BEGIN:VEVENT
DTSTART;TZID=Asia/Tokyo:20250819T120000
DTEND;TZID=Asia/Tokyo:20250819T200000
DTSTAMP:20260420T170350
CREATED:20250710T064452Z
LAST-MODIFIED:20250710T064452Z
UID:522-1755604800-1755633600@neo-lavenir.com
SUMMARY:移動販売@ハローズ中庄店
DESCRIPTION:取扱商品：たこ焼き
URL:https://neo-lavenir.com/event/%e7%a7%bb%e5%8b%95%e8%b2%a9%e5%a3%b2%e3%83%8f%e3%83%ad%e3%83%bc%e3%82%ba%e4%b8%ad%e5%ba%84%e5%ba%97-3/
LOCATION:ハローズ中庄店\, 松島971-1\, 倉敷市\, 岡山県\, 701-0114
CATEGORIES:移動販売
END:VEVENT
BEGIN:VEVENT
DTSTART;TZID=Asia/Tokyo:20250821T120000
DTEND;TZID=Asia/Tokyo:20250821T200000
DTSTAMP:20260420T170350
CREATED:20250710T064512Z
LAST-MODIFIED:20250710T064512Z
UID:524-1755777600-1755806400@neo-lavenir.com
SUMMARY:移動販売@ハローズ十日市店
DESCRIPTION:取扱商品：たこ焼き
URL:https://neo-lavenir.com/event/%e7%a7%bb%e5%8b%95%e8%b2%a9%e5%a3%b2%e3%83%8f%e3%83%ad%e3%83%bc%e3%82%ba%e5%8d%81%e6%97%a5%e5%b8%82%e5%ba%97/
LOCATION:ハローズ十日市店\, 十日市西町8-52-2\, 岡山市北区\, 岡山県\, 700-0856
CATEGORIES:移動販売
END:VEVENT
BEGIN:VEVENT
DTSTART;TZID=Asia/Tokyo:20250822T120000
DTEND;TZID=Asia/Tokyo:20250822T200000
DTSTAMP:20260420T170350
CREATED:20250723T065455Z
LAST-MODIFIED:20250723T065455Z
UID:551-1755864000-1755892800@neo-lavenir.com
SUMMARY:移動販売@天満屋ハピーズ 大安寺店
DESCRIPTION:取扱商品：たこ焼き
URL:https://neo-lavenir.com/event/%e7%a7%bb%e5%8b%95%e8%b2%a9%e5%a3%b2%e5%a4%a9%e6%ba%80%e5%b1%8b%e3%83%8f%e3%83%94%e3%83%bc%e3%82%ba-%e5%a4%a7%e5%ae%89%e5%af%ba%e5%ba%97-2/
LOCATION:天満屋ハピーズ 大安寺店\, 殿西町329-1\, 岡山市北区\, 岡山県\, 700-0066\, Japan
CATEGORIES:移動販売
END:VEVENT
BEGIN:VEVENT
DTSTART;TZID=Asia/Tokyo:20250823T120000
DTEND;TZID=Asia/Tokyo:20250823T200000
DTSTAMP:20260420T170350
CREATED:20250710T064524Z
LAST-MODIFIED:20250710T064524Z
UID:526-1755950400-1755979200@neo-lavenir.com
SUMMARY:移動販売@スーパーハリウッド倉敷
DESCRIPTION:取扱商品：たこ焼き
URL:https://neo-lavenir.com/event/%e7%a7%bb%e5%8b%95%e8%b2%a9%e5%a3%b2%e3%82%b9%e3%83%bc%e3%83%91%e3%83%bc%e3%83%8f%e3%83%aa%e3%82%a6%e3%83%83%e3%83%89%e5%80%89%e6%95%b7-13/
LOCATION:スーパーハリウッド倉敷\, 松島1173-1\, 倉敷市\, 岡山県\, 701-0114\, 日本
CATEGORIES:移動販売
END:VEVENT
BEGIN:VEVENT
DTSTART;TZID=Asia/Tokyo:20250824T120000
DTEND;TZID=Asia/Tokyo:20250824T200000
DTSTAMP:20260420T170350
CREATED:20250710T064545Z
LAST-MODIFIED:20250710T064545Z
UID:528-1756036800-1756065600@neo-lavenir.com
SUMMARY:移動販売@グレートハリウッド津山
DESCRIPTION:取扱商品：たこ焼き
URL:https://neo-lavenir.com/event/%e7%a7%bb%e5%8b%95%e8%b2%a9%e5%a3%b2%e3%82%b0%e3%83%ac%e3%83%bc%e3%83%88%e3%83%8f%e3%83%aa%e3%82%a6%e3%83%83%e3%83%89%e6%b4%a5%e5%b1%b1-14/
LOCATION:グレートハリウッド津山\, 野介代50-1\, 津山市\, 岡山県\, 708-0821\, 日本
CATEGORIES:移動販売
END:VEVENT
END:VCALENDAR