BEGIN:VCALENDAR
VERSION:2.0
PRODID:-//L‘Avenir（ラブニール） - ECPv6.4.0.1//NONSGML v1.0//EN
CALSCALE:GREGORIAN
METHOD:PUBLISH
X-WR-CALNAME:L‘Avenir（ラブニール）
X-ORIGINAL-URL:https://neo-lavenir.com
X-WR-CALDESC:L‘Avenir（ラブニール） のイベント
REFRESH-INTERVAL;VALUE=DURATION:PT1H
X-Robots-Tag:noindex
X-PUBLISHED-TTL:PT1H
BEGIN:VTIMEZONE
TZID:Asia/Tokyo
BEGIN:STANDARD
TZOFFSETFROM:+0900
TZOFFSETTO:+0900
TZNAME:JST
DTSTART:20250101T000000
END:STANDARD
END:VTIMEZONE
BEGIN:VEVENT
DTSTART;TZID=Asia/Tokyo:20250925T120000
DTEND;TZID=Asia/Tokyo:20250925T200000
DTSTAMP:20260420T100334
CREATED:20250820T005354Z
LAST-MODIFIED:20250820T005354Z
UID:611-1758801600-1758830400@neo-lavenir.com
SUMMARY:移動販売@ハローズ中庄店
DESCRIPTION:取扱商品：たこ焼き
URL:https://neo-lavenir.com/event/%e7%a7%bb%e5%8b%95%e8%b2%a9%e5%a3%b2%e3%83%8f%e3%83%ad%e3%83%bc%e3%82%ba%e4%b8%ad%e5%ba%84%e5%ba%97-5/
LOCATION:ハローズ中庄店\, 松島971-1\, 倉敷市\, 岡山県\, 701-0114
CATEGORIES:移動販売
END:VEVENT
END:VCALENDAR