BEGIN:VCALENDAR
VERSION:2.0
PRODID:-//L‘Avenir（ラブニール） - ECPv6.4.0.1//NONSGML v1.0//EN
CALSCALE:GREGORIAN
METHOD:PUBLISH
X-ORIGINAL-URL:https://neo-lavenir.com
X-WR-CALDESC:L‘Avenir（ラブニール） のイベント
REFRESH-INTERVAL;VALUE=DURATION:PT1H
X-Robots-Tag:noindex
X-PUBLISHED-TTL:PT1H
BEGIN:VTIMEZONE
TZID:Asia/Tokyo
BEGIN:STANDARD
TZOFFSETFROM:+0900
TZOFFSETTO:+0900
TZNAME:JST
DTSTART:20260101T000000
END:STANDARD
END:VTIMEZONE
BEGIN:VEVENT
DTSTART;TZID=Asia/Tokyo:20260421T120000
DTEND;TZID=Asia/Tokyo:20260421T200000
DTSTAMP:20260419T223518
CREATED:20260323T025416Z
LAST-MODIFIED:20260323T025416Z
UID:975-1776772800-1776801600@neo-lavenir.com
SUMMARY:移動販売@ハローズ中庄店
DESCRIPTION:取扱商品：たこ焼き
URL:https://neo-lavenir.com/event/%e7%a7%bb%e5%8b%95%e8%b2%a9%e5%a3%b2%e3%83%8f%e3%83%ad%e3%83%bc%e3%82%ba%e4%b8%ad%e5%ba%84%e5%ba%97-13/
LOCATION:ハローズ中庄店\, 松島971-1\, 倉敷市\, 岡山県\, 701-0114
CATEGORIES:移動販売
END:VEVENT
END:VCALENDAR