BEGIN:VCALENDAR
VERSION:2.0
PRODID:-//L‘Avenir（ラブニール） - ECPv6.4.0.1//NONSGML v1.0//EN
CALSCALE:GREGORIAN
METHOD:PUBLISH
X-WR-CALNAME:L‘Avenir（ラブニール）
X-ORIGINAL-URL:https://neo-lavenir.com
X-WR-CALDESC:L‘Avenir（ラブニール） のイベント
REFRESH-INTERVAL;VALUE=DURATION:PT1H
X-Robots-Tag:noindex
X-PUBLISHED-TTL:PT1H
BEGIN:VTIMEZONE
TZID:Asia/Tokyo
BEGIN:STANDARD
TZOFFSETFROM:+0900
TZOFFSETTO:+0900
TZNAME:JST
DTSTART:20240101T000000
END:STANDARD
END:VTIMEZONE
BEGIN:VEVENT
DTSTART;TZID=Asia/Tokyo:20240727T120000
DTEND;TZID=Asia/Tokyo:20240727T210000
DTSTAMP:20260421T110121
CREATED:20240716T061505Z
LAST-MODIFIED:20240716T150109Z
UID:206-1722081600-1722114000@neo-lavenir.com
SUMMARY:移動販売@スーパーハリウッド青江
DESCRIPTION:取扱商品：たこ焼き
URL:https://neo-lavenir.com/event/%e3%82%b9%e3%83%bc%e3%83%91%e3%83%bc%e3%83%8f%e3%83%aa%e3%82%a6%e3%83%83%e3%83%89%e9%9d%92%e6%b1%9f/
LOCATION:スーパーハリウッド青江\, 北区青江２丁目７−４７\, 岡山市\, 岡山県\, 700-0941\, 日本
CATEGORIES:移動販売
END:VEVENT
BEGIN:VEVENT
DTSTART;TZID=Asia/Tokyo:20240715T120000
DTEND;TZID=Asia/Tokyo:20240715T210000
DTSTAMP:20260421T110121
CREATED:20240604T114633Z
LAST-MODIFIED:20240604T114633Z
UID:186-1721044800-1721077200@neo-lavenir.com
SUMMARY:移動販売@ハリウッドⅢスター
DESCRIPTION:取扱商品：たこ焼き
URL:https://neo-lavenir.com/event/%e7%a7%bb%e5%8b%95%e8%b2%a9%e5%a3%b2%e3%83%8f%e3%83%aa%e3%82%a6%e3%83%83%e3%83%89%e2%85%b2%e3%82%b9%e3%82%bf%e3%83%bc-2/
LOCATION:ハリウッドⅢスター\, 生坂763-1\, 倉敷市\, 岡山県\, 710-0002\, 日本
CATEGORIES:移動販売
END:VEVENT
BEGIN:VEVENT
DTSTART;TZID=Asia/Tokyo:20240714T120000
DTEND;TZID=Asia/Tokyo:20240714T210000
DTSTAMP:20260421T110121
CREATED:20240604T114625Z
LAST-MODIFIED:20240604T114625Z
UID:185-1720958400-1720990800@neo-lavenir.com
SUMMARY:移動販売@ハリウッドⅢスター
DESCRIPTION:取扱商品：たこ焼き
URL:https://neo-lavenir.com/event/%e7%a7%bb%e5%8b%95%e8%b2%a9%e5%a3%b2%e3%83%8f%e3%83%aa%e3%82%a6%e3%83%83%e3%83%89%e2%85%b2%e3%82%b9%e3%82%bf%e3%83%bc/
LOCATION:ハリウッドⅢスター\, 生坂763-1\, 倉敷市\, 岡山県\, 710-0002\, 日本
CATEGORIES:移動販売
END:VEVENT
BEGIN:VEVENT
DTSTART;TZID=Asia/Tokyo:20240713T120000
DTEND;TZID=Asia/Tokyo:20240713T210000
DTSTAMP:20260421T110121
CREATED:20240604T114014Z
LAST-MODIFIED:20240604T114608Z
UID:182-1720872000-1720904400@neo-lavenir.com
SUMMARY:移動販売@ハリウッドⅢスター
DESCRIPTION:取扱商品：たこ焼き
URL:https://neo-lavenir.com/event/%e7%a7%bb%e5%8b%95%e8%b2%a9%e5%a3%b2%e3%83%8f%e3%83%aa%e3%82%a6%e3%83%83%e3%83%89%e6%9d%b1%e5%b2%a1%e5%b1%b1-3/
LOCATION:ハリウッドⅢスター\, 生坂763-1\, 倉敷市\, 岡山県\, 710-0002\, 日本
CATEGORIES:移動販売
END:VEVENT
BEGIN:VEVENT
DTSTART;TZID=Asia/Tokyo:20240709T120000
DTEND;TZID=Asia/Tokyo:20240709T210000
DTSTAMP:20260421T110121
CREATED:20240604T113557Z
LAST-MODIFIED:20240606T070054Z
UID:174-1720526400-1720558800@neo-lavenir.com
SUMMARY:移動販売@ハリウッド東岡山
DESCRIPTION:取扱商品：たこ焼き
URL:https://neo-lavenir.com/event/%e7%a7%bb%e5%8b%95%e8%b2%a9%e5%a3%b2%e3%83%8f%e3%83%aa%e3%82%a6%e3%83%83%e3%83%89%e6%9d%b1%e5%b2%a1%e5%b1%b1-2/
LOCATION:ハリウッド東岡山\, 神下145-1\, 岡山市中区\, 岡山県\, 703-8225\, 日本
CATEGORIES:移動販売
END:VEVENT
BEGIN:VEVENT
DTSTART;TZID=Asia/Tokyo:20240707T120000
DTEND;TZID=Asia/Tokyo:20240707T210000
DTSTAMP:20260421T110121
CREATED:20240606T070118Z
LAST-MODIFIED:20240606T070118Z
UID:195-1720353600-1720386000@neo-lavenir.com
SUMMARY:移動販売@スーパーハリウッド倉敷
DESCRIPTION:取扱商品：たこ焼き
URL:https://neo-lavenir.com/event/%e7%a7%bb%e5%8b%95%e8%b2%a9%e5%a3%b2%e3%82%b9%e3%83%bc%e3%83%91%e3%83%bc%e3%83%8f%e3%83%aa%e3%82%a6%e3%83%83%e3%83%89%e5%80%89%e6%95%b7-2/
LOCATION:スーパーハリウッド倉敷\, 松島1173-1\, 倉敷市\, 岡山県\, 701-0114\, 日本
CATEGORIES:移動販売
END:VEVENT
BEGIN:VEVENT
DTSTART;TZID=Asia/Tokyo:20240706T120000
DTEND;TZID=Asia/Tokyo:20240706T210000
DTSTAMP:20260421T110121
CREATED:20240606T065925Z
LAST-MODIFIED:20240606T065925Z
UID:189-1720267200-1720299600@neo-lavenir.com
SUMMARY:移動販売@スーパーハリウッド倉敷
DESCRIPTION:取扱商品：たこ焼き
URL:https://neo-lavenir.com/event/%e7%a7%bb%e5%8b%95%e8%b2%a9%e5%a3%b2%e3%82%b9%e3%83%bc%e3%83%91%e3%83%bc%e3%83%8f%e3%83%aa%e3%82%a6%e3%83%83%e3%83%89%e5%80%89%e6%95%b7/
LOCATION:スーパーハリウッド倉敷\, 松島1173-1\, 倉敷市\, 岡山県\, 701-0114\, 日本
CATEGORIES:移動販売
END:VEVENT
BEGIN:VEVENT
DTSTART;TZID=Asia/Tokyo:20240705T120000
DTEND;TZID=Asia/Tokyo:20240705T210000
DTSTAMP:20260421T110121
CREATED:20240604T113954Z
LAST-MODIFIED:20240606T065853Z
UID:176-1720180800-1720213200@neo-lavenir.com
SUMMARY:移動販売@スーパーハリウッド倉敷
DESCRIPTION:取扱商品：たこ焼き
URL:https://neo-lavenir.com/event/%e7%a7%bb%e5%8b%95%e8%b2%a9%e5%a3%b2%e3%82%b9%e3%83%bc%e3%83%91%e3%83%bc%e3%83%8f%e3%83%aa%e3%82%a6%e3%83%83%e3%83%89%e5%80%89%e6%95%b7%ef%bc%88%e4%bb%ae%ef%bc%89/
LOCATION:スーパーハリウッド倉敷\, 松島1173-1\, 倉敷市\, 岡山県\, 701-0114\, 日本
CATEGORIES:移動販売
END:VEVENT
BEGIN:VEVENT
DTSTART;TZID=Asia/Tokyo:20240616T120000
DTEND;TZID=Asia/Tokyo:20240616T210000
DTSTAMP:20260421T110121
CREATED:20240510T152934Z
LAST-MODIFIED:20240513T113324Z
UID:158-1718539200-1718571600@neo-lavenir.com
SUMMARY:移動販売@ハリウッド東岡山
DESCRIPTION:取扱商品：たこ焼き
URL:https://neo-lavenir.com/event/%ef%bc%95%e6%9c%88%ef%bc%91%ef%bc%99%e6%97%a5%e3%80%80%e3%83%8f%e3%83%aa%e3%82%a6%e3%83%83%e3%83%89%e6%9d%b1%e5%b2%a1%e5%b1%b1/
LOCATION:ハリウッド東岡山\, 神下145-1\, 岡山市中区\, 岡山県\, 703-8225\, 日本
CATEGORIES:移動販売
END:VEVENT
BEGIN:VEVENT
DTSTART;TZID=Asia/Tokyo:20240519T120000
DTEND;TZID=Asia/Tokyo:20240519T210000
DTSTAMP:20260421T110121
CREATED:20240513T033323Z
LAST-MODIFIED:20240513T113343Z
UID:163-1716120000-1716152400@neo-lavenir.com
SUMMARY:移動販売@ハリウッド東岡山
DESCRIPTION:取扱商品：たこ焼き
URL:https://neo-lavenir.com/event/%e7%a7%bb%e5%8b%95%e8%b2%a9%e5%a3%b2%e3%83%8f%e3%83%aa%e3%82%a6%e3%83%83%e3%83%89%e6%9d%b1%e5%b2%a1%e5%b1%b1/
LOCATION:ハリウッド東岡山\, 神下145-1\, 岡山市中区\, 岡山県\, 703-8225\, 日本
CATEGORIES:移動販売
END:VEVENT
END:VCALENDAR