BEGIN:VCALENDAR
VERSION:2.0
PRODID:-//L‘Avenir（ラブニール） - ECPv6.4.0.1//NONSGML v1.0//EN
CALSCALE:GREGORIAN
METHOD:PUBLISH
X-WR-CALNAME:L‘Avenir（ラブニール）
X-ORIGINAL-URL:https://neo-lavenir.com
X-WR-CALDESC:L‘Avenir（ラブニール） のイベント
REFRESH-INTERVAL;VALUE=DURATION:PT1H
X-Robots-Tag:noindex
X-PUBLISHED-TTL:PT1H
BEGIN:VTIMEZONE
TZID:Asia/Tokyo
BEGIN:STANDARD
TZOFFSETFROM:+0900
TZOFFSETTO:+0900
TZNAME:JST
DTSTART:20240101T000000
END:STANDARD
END:VTIMEZONE
BEGIN:VEVENT
DTSTART;TZID=Asia/Tokyo:20241116T120000
DTEND;TZID=Asia/Tokyo:20241116T210000
DTSTAMP:20260421T041115
CREATED:20241017T011431Z
LAST-MODIFIED:20241017T011431Z
UID:307-1731758400-1731790800@neo-lavenir.com
SUMMARY:移動販売@ハリウッド東岡山
DESCRIPTION:取扱商品：たこ焼き
URL:https://neo-lavenir.com/event/%e7%a7%bb%e5%8b%95%e8%b2%a9%e5%a3%b2%e3%83%8f%e3%83%aa%e3%82%a6%e3%83%83%e3%83%89%e6%9d%b1%e5%b2%a1%e5%b1%b1-7/
LOCATION:ハリウッド東岡山\, 神下145-1\, 岡山市中区\, 岡山県\, 703-8225\, 日本
CATEGORIES:移動販売
END:VEVENT
BEGIN:VEVENT
DTSTART;TZID=Asia/Tokyo:20241110T120000
DTEND;TZID=Asia/Tokyo:20241110T210000
DTSTAMP:20260421T041115
CREATED:20241017T011402Z
LAST-MODIFIED:20241017T011402Z
UID:305-1731240000-1731272400@neo-lavenir.com
SUMMARY:移動販売@スーパーハリウッド下中野
DESCRIPTION:取扱商品：たこ焼き
URL:https://neo-lavenir.com/event/%e7%a7%bb%e5%8b%95%e8%b2%a9%e5%a3%b2%e3%82%b9%e3%83%bc%e3%83%91%e3%83%bc%e3%83%8f%e3%83%aa%e3%82%a6%e3%83%83%e3%83%89%e4%b8%8b%e4%b8%ad%e9%87%8e-6/
LOCATION:スーパーハリウッド下中野\, 北区下中野３６０−１\, 岡山市\, 岡山県\, 700-0973\, 日本
CATEGORIES:移動販売
END:VEVENT
BEGIN:VEVENT
DTSTART;TZID=Asia/Tokyo:20241109T120000
DTEND;TZID=Asia/Tokyo:20241109T210000
DTSTAMP:20260421T041115
CREATED:20241017T011347Z
LAST-MODIFIED:20241017T011347Z
UID:303-1731153600-1731186000@neo-lavenir.com
SUMMARY:移動販売@スーパーハリウッド下中野
DESCRIPTION:取扱商品：たこ焼き
URL:https://neo-lavenir.com/event/%e7%a7%bb%e5%8b%95%e8%b2%a9%e5%a3%b2%e3%82%b9%e3%83%bc%e3%83%91%e3%83%bc%e3%83%8f%e3%83%aa%e3%82%a6%e3%83%83%e3%83%89%e4%b8%8b%e4%b8%ad%e9%87%8e-5/
LOCATION:スーパーハリウッド下中野\, 北区下中野３６０−１\, 岡山市\, 岡山県\, 700-0973\, 日本
CATEGORIES:移動販売
END:VEVENT
BEGIN:VEVENT
DTSTART;TZID=Asia/Tokyo:20241104T120000
DTEND;TZID=Asia/Tokyo:20241104T210000
DTSTAMP:20260421T041115
CREATED:20241017T011318Z
LAST-MODIFIED:20241017T011318Z
UID:299-1730721600-1730754000@neo-lavenir.com
SUMMARY:移動販売@スーパーハリウッド1000 福山
DESCRIPTION:取扱商品：たこ焼き
URL:https://neo-lavenir.com/event/%e7%a7%bb%e5%8b%95%e8%b2%a9%e5%a3%b2%e3%82%b9%e3%83%bc%e3%83%91%e3%83%bc%e3%83%8f%e3%83%aa%e3%82%a6%e3%83%83%e3%83%891000-%e7%a6%8f%e5%b1%b1-2/
LOCATION:スーパーハリウッド1000 福山\, 東深津町３丁目１４−１\, 福山市\, 広島県\, 721-0974\, 日本
CATEGORIES:移動販売
END:VEVENT
BEGIN:VEVENT
DTSTART;TZID=Asia/Tokyo:20241103T120000
DTEND;TZID=Asia/Tokyo:20241103T210000
DTSTAMP:20260421T041115
CREATED:20241017T011208Z
LAST-MODIFIED:20241017T011208Z
UID:297-1730635200-1730667600@neo-lavenir.com
SUMMARY:移動販売@ハリウッドⅢスター
DESCRIPTION:取扱商品：たこ焼き
URL:https://neo-lavenir.com/event/%e7%a7%bb%e5%8b%95%e8%b2%a9%e5%a3%b2%e3%83%8f%e3%83%aa%e3%82%a6%e3%83%83%e3%83%89%e2%85%b2%e3%82%b9%e3%82%bf%e3%83%bc-3/
LOCATION:ハリウッドⅢスター\, 生坂763-1\, 倉敷市\, 岡山県\, 710-0002\, 日本
CATEGORIES:移動販売
END:VEVENT
BEGIN:VEVENT
DTSTART;TZID=Asia/Tokyo:20241102T120000
DTEND;TZID=Asia/Tokyo:20241102T210000
DTSTAMP:20260421T041115
CREATED:20241017T010930Z
LAST-MODIFIED:20241017T010930Z
UID:293-1730548800-1730581200@neo-lavenir.com
SUMMARY:移動販売@グレートハリウッド津山
DESCRIPTION:取扱商品：たこ焼き
URL:https://neo-lavenir.com/event/%e7%a7%bb%e5%8b%95%e8%b2%a9%e5%a3%b2%e3%82%b0%e3%83%ac%e3%83%bc%e3%83%88%e3%83%8f%e3%83%aa%e3%82%a6%e3%83%83%e3%83%89%e6%b4%a5%e5%b1%b1-2/
LOCATION:グレートハリウッド津山\, 野介代50-1\, 津山市\, 岡山県\, 708-0821\, 日本
CATEGORIES:移動販売
END:VEVENT
BEGIN:VEVENT
DTSTART;TZID=Asia/Tokyo:20241027T120000
DTEND;TZID=Asia/Tokyo:20241027T210000
DTSTAMP:20260421T041115
CREATED:20240911T110443Z
LAST-MODIFIED:20240911T110443Z
UID:286-1730030400-1730062800@neo-lavenir.com
SUMMARY:移動販売@スーパーハリウッド下中野
DESCRIPTION:取扱商品：たこ焼き
URL:https://neo-lavenir.com/event/%e7%a7%bb%e5%8b%95%e8%b2%a9%e5%a3%b2%e3%82%b9%e3%83%bc%e3%83%91%e3%83%bc%e3%83%8f%e3%83%aa%e3%82%a6%e3%83%83%e3%83%89%e4%b8%8b%e4%b8%ad%e9%87%8e-4/
LOCATION:スーパーハリウッド下中野\, 北区下中野３６０−１\, 岡山市\, 岡山県\, 700-0973\, 日本
CATEGORIES:移動販売
END:VEVENT
BEGIN:VEVENT
DTSTART;TZID=Asia/Tokyo:20241026T120000
DTEND;TZID=Asia/Tokyo:20241026T210000
DTSTAMP:20260421T041115
CREATED:20240910T025545Z
LAST-MODIFIED:20240910T025545Z
UID:273-1729944000-1729976400@neo-lavenir.com
SUMMARY:移動販売@スーパーハリウッド青江
DESCRIPTION:取扱商品：たこ焼き
URL:https://neo-lavenir.com/event/%e7%a7%bb%e5%8b%95%e8%b2%a9%e5%a3%b2%e3%82%b9%e3%83%bc%e3%83%91%e3%83%bc%e3%83%8f%e3%83%aa%e3%82%a6%e3%83%83%e3%83%89%e9%9d%92%e6%b1%9f-6/
LOCATION:スーパーハリウッド青江\, 北区青江２丁目７−４７\, 岡山市\, 岡山県\, 700-0941\, 日本
CATEGORIES:移動販売
END:VEVENT
BEGIN:VEVENT
DTSTART;TZID=Asia/Tokyo:20241022T120000
DTEND;TZID=Asia/Tokyo:20241022T210000
DTSTAMP:20260421T041115
CREATED:20240910T025504Z
LAST-MODIFIED:20240910T025530Z
UID:271-1729598400-1729630800@neo-lavenir.com
SUMMARY:移動販売@スーパーハリウッド青江
DESCRIPTION:取扱商品：たこ焼き
URL:https://neo-lavenir.com/event/%e7%a7%bb%e5%8b%95%e8%b2%a9%e5%a3%b2%e3%82%b9%e3%83%bc%e3%83%91%e3%83%bc%e3%83%8f%e3%83%aa%e3%82%a6%e3%83%83%e3%83%89%e9%9d%92%e6%b1%9f-5/
LOCATION:スーパーハリウッド青江\, 北区青江２丁目７−４７\, 岡山市\, 岡山県\, 700-0941\, 日本
CATEGORIES:移動販売
END:VEVENT
BEGIN:VEVENT
DTSTART;TZID=Asia/Tokyo:20241020T120000
DTEND;TZID=Asia/Tokyo:20241020T210000
DTSTAMP:20260421T041115
CREATED:20240911T110428Z
LAST-MODIFIED:20240911T110428Z
UID:284-1729425600-1729458000@neo-lavenir.com
SUMMARY:移動販売@スーパーハリウッド下中野
DESCRIPTION:取扱商品：たこ焼き
URL:https://neo-lavenir.com/event/%e7%a7%bb%e5%8b%95%e8%b2%a9%e5%a3%b2%e3%82%b9%e3%83%bc%e3%83%91%e3%83%bc%e3%83%8f%e3%83%aa%e3%82%a6%e3%83%83%e3%83%89%e4%b8%8b%e4%b8%ad%e9%87%8e-3/
LOCATION:スーパーハリウッド下中野\, 北区下中野３６０−１\, 岡山市\, 岡山県\, 700-0973\, 日本
CATEGORIES:移動販売
END:VEVENT
BEGIN:VEVENT
DTSTART;TZID=Asia/Tokyo:20241019T120000
DTEND;TZID=Asia/Tokyo:20241019T210000
DTSTAMP:20260421T041115
CREATED:20240910T025414Z
LAST-MODIFIED:20240910T025414Z
UID:267-1729339200-1729371600@neo-lavenir.com
SUMMARY:移動販売@ハリウッド東岡山
DESCRIPTION:取扱商品：たこ焼き
URL:https://neo-lavenir.com/event/%e7%a7%bb%e5%8b%95%e8%b2%a9%e5%a3%b2%e3%83%8f%e3%83%aa%e3%82%a6%e3%83%83%e3%83%89%e6%9d%b1%e5%b2%a1%e5%b1%b1-6/
LOCATION:ハリウッド東岡山\, 神下145-1\, 岡山市中区\, 岡山県\, 703-8225\, 日本
CATEGORIES:移動販売
END:VEVENT
BEGIN:VEVENT
DTSTART;TZID=Asia/Tokyo:20241012T120000
DTEND;TZID=Asia/Tokyo:20241012T210000
DTSTAMP:20260421T041115
CREATED:20240910T025445Z
LAST-MODIFIED:20240910T025445Z
UID:269-1728734400-1728766800@neo-lavenir.com
SUMMARY:移動販売@スーパーハリウッド青江
DESCRIPTION:取扱商品：たこ焼き
URL:https://neo-lavenir.com/event/%e7%a7%bb%e5%8b%95%e8%b2%a9%e5%a3%b2%e3%82%b9%e3%83%bc%e3%83%91%e3%83%bc%e3%83%8f%e3%83%aa%e3%82%a6%e3%83%83%e3%83%89%e9%9d%92%e6%b1%9f-4/
LOCATION:スーパーハリウッド青江\, 北区青江２丁目７−４７\, 岡山市\, 岡山県\, 700-0941\, 日本
CATEGORIES:移動販売
END:VEVENT
BEGIN:VEVENT
DTSTART;TZID=Asia/Tokyo:20241006T120000
DTEND;TZID=Asia/Tokyo:20241006T210000
DTSTAMP:20260421T041115
CREATED:20240911T110313Z
LAST-MODIFIED:20240927T145358Z
UID:277-1728216000-1728248400@neo-lavenir.com
SUMMARY:移動販売@スーパーハリウッド倉敷
DESCRIPTION:取扱商品：たこ焼き
URL:https://neo-lavenir.com/event/%e7%a7%bb%e5%8b%95%e8%b2%a9%e5%a3%b2%e3%82%b9%e3%83%bc%e3%83%91%e3%83%bc%e3%83%8f%e3%83%aa%e3%82%a6%e3%83%83%e3%83%89%e5%80%89%e6%95%b7-6/
LOCATION:スーパーハリウッド倉敷\, 松島1173-1\, 倉敷市\, 岡山県\, 701-0114\, 日本
CATEGORIES:移動販売
END:VEVENT
BEGIN:VEVENT
DTSTART;TZID=Asia/Tokyo:20241005T120000
DTEND;TZID=Asia/Tokyo:20241005T210000
DTSTAMP:20260421T041115
CREATED:20240911T110259Z
LAST-MODIFIED:20240927T145412Z
UID:275-1728129600-1728162000@neo-lavenir.com
SUMMARY:移動販売@スーパーハリウッド倉敷
DESCRIPTION:取扱商品：たこ焼き
URL:https://neo-lavenir.com/event/%e7%a7%bb%e5%8b%95%e8%b2%a9%e5%a3%b2%e3%82%b9%e3%83%bc%e3%83%91%e3%83%bc%e3%83%8f%e3%83%aa%e3%82%a6%e3%83%83%e3%83%89%e5%80%89%e6%95%b7-5/
LOCATION:スーパーハリウッド倉敷\, 松島1173-1\, 倉敷市\, 岡山県\, 701-0114\, 日本
CATEGORIES:移動販売
END:VEVENT
BEGIN:VEVENT
DTSTART;TZID=Asia/Tokyo:20240929T120000
DTEND;TZID=Asia/Tokyo:20240929T210000
DTSTAMP:20260421T041115
CREATED:20240729T063927Z
LAST-MODIFIED:20240729T063927Z
UID:231-1727611200-1727643600@neo-lavenir.com
SUMMARY:移動販売@ハリウッド東岡山
DESCRIPTION:取扱商品：たこ焼き
URL:https://neo-lavenir.com/event/%e7%a7%bb%e5%8b%95%e8%b2%a9%e5%a3%b2%e3%83%8f%e3%83%aa%e3%82%a6%e3%83%83%e3%83%89%e6%9d%b1%e5%b2%a1%e5%b1%b1-5/
LOCATION:ハリウッド東岡山\, 神下145-1\, 岡山市中区\, 岡山県\, 703-8225\, 日本
CATEGORIES:移動販売
END:VEVENT
BEGIN:VEVENT
DTSTART;TZID=Asia/Tokyo:20240923T120000
DTEND;TZID=Asia/Tokyo:20240923T210000
DTSTAMP:20260421T041115
CREATED:20240731T153625Z
LAST-MODIFIED:20240813T061131Z
UID:247-1727092800-1727125200@neo-lavenir.com
SUMMARY:移動販売@ハリウッドⅢスター
DESCRIPTION:取扱商品：たこ焼き
URL:https://neo-lavenir.com/event/%e7%a7%bb%e5%8b%95%e8%b2%a9%e5%a3%b2%e3%83%8f%e3%83%aa%e3%82%a6%e3%83%83%e3%83%89%e2%85%b2%e3%82%b9%e3%82%bf%e3%83%bc%ef%bc%88%e4%bb%ae%ef%bc%89-3/
LOCATION:ハリウッドⅢスター\, 生坂763-1\, 倉敷市\, 岡山県\, 710-0002\, 日本
CATEGORIES:移動販売
END:VEVENT
BEGIN:VEVENT
DTSTART;TZID=Asia/Tokyo:20240922T120000
DTEND;TZID=Asia/Tokyo:20240922T210000
DTSTAMP:20260421T041115
CREATED:20240731T153611Z
LAST-MODIFIED:20240813T061127Z
UID:245-1727006400-1727038800@neo-lavenir.com
SUMMARY:移動販売@ハリウッドⅢスター
DESCRIPTION:取扱商品：たこ焼き
URL:https://neo-lavenir.com/event/%e7%a7%bb%e5%8b%95%e8%b2%a9%e5%a3%b2%e3%83%8f%e3%83%aa%e3%82%a6%e3%83%83%e3%83%89%e2%85%b2%e3%82%b9%e3%82%bf%e3%83%bc%ef%bc%88%e4%bb%ae%ef%bc%89-2/
LOCATION:ハリウッドⅢスター\, 生坂763-1\, 倉敷市\, 岡山県\, 710-0002\, 日本
CATEGORIES:移動販売
END:VEVENT
BEGIN:VEVENT
DTSTART;TZID=Asia/Tokyo:20240921T120000
DTEND;TZID=Asia/Tokyo:20240921T210000
DTSTAMP:20260421T041115
CREATED:20240731T153555Z
LAST-MODIFIED:20240813T061124Z
UID:243-1726920000-1726952400@neo-lavenir.com
SUMMARY:移動販売@ハリウッドⅢスター
DESCRIPTION:取扱商品：たこ焼き
URL:https://neo-lavenir.com/event/%e7%a7%bb%e5%8b%95%e8%b2%a9%e5%a3%b2%e3%83%8f%e3%83%aa%e3%82%a6%e3%83%83%e3%83%89%e2%85%b2%e3%82%b9%e3%82%bf%e3%83%bc%ef%bc%88%e4%bb%ae%ef%bc%89/
LOCATION:ハリウッドⅢスター\, 生坂763-1\, 倉敷市\, 岡山県\, 710-0002\, 日本
CATEGORIES:移動販売
END:VEVENT
BEGIN:VEVENT
DTSTART;TZID=Asia/Tokyo:20240916T120000
DTEND;TZID=Asia/Tokyo:20240916T210000
DTSTAMP:20260421T041115
CREATED:20240731T153517Z
LAST-MODIFIED:20240813T061114Z
UID:241-1726488000-1726520400@neo-lavenir.com
SUMMARY:移動販売@スーパーハリウッド倉敷
DESCRIPTION:取扱商品：たこ焼き
URL:https://neo-lavenir.com/event/%e7%a7%bb%e5%8b%95%e8%b2%a9%e5%a3%b2%e3%82%b9%e3%83%bc%e3%83%91%e3%83%bc%e3%83%8f%e3%83%aa%e3%82%a6%e3%83%83%e3%83%89%e5%80%89%e6%95%b7%ef%bc%88%e4%bb%ae%ef%bc%89-4/
LOCATION:スーパーハリウッド倉敷\, 松島1173-1\, 倉敷市\, 岡山県\, 701-0114\, 日本
CATEGORIES:移動販売
END:VEVENT
BEGIN:VEVENT
DTSTART;TZID=Asia/Tokyo:20240915T120000
DTEND;TZID=Asia/Tokyo:20240915T210000
DTSTAMP:20260421T041115
CREATED:20240731T153450Z
LAST-MODIFIED:20240813T061120Z
UID:239-1726401600-1726434000@neo-lavenir.com
SUMMARY:移動販売@スーパーハリウッド倉敷
DESCRIPTION:取扱商品：たこ焼き
URL:https://neo-lavenir.com/event/%e7%a7%bb%e5%8b%95%e8%b2%a9%e5%a3%b2%e3%82%b9%e3%83%bc%e3%83%91%e3%83%bc%e3%83%8f%e3%83%aa%e3%82%a6%e3%83%83%e3%83%89%e5%80%89%e6%95%b7%ef%bc%88%e4%bb%ae%ef%bc%89-3/
LOCATION:スーパーハリウッド倉敷\, 松島1173-1\, 倉敷市\, 岡山県\, 701-0114\, 日本
CATEGORIES:移動販売
END:VEVENT
BEGIN:VEVENT
DTSTART;TZID=Asia/Tokyo:20240914T120000
DTEND;TZID=Asia/Tokyo:20240914T210000
DTSTAMP:20260421T041115
CREATED:20240731T153435Z
LAST-MODIFIED:20240813T061109Z
UID:237-1726315200-1726347600@neo-lavenir.com
SUMMARY:移動販売@スーパーハリウッド倉敷
DESCRIPTION:取扱商品：たこ焼き
URL:https://neo-lavenir.com/event/%e7%a7%bb%e5%8b%95%e8%b2%a9%e5%a3%b2%e3%82%b9%e3%83%bc%e3%83%91%e3%83%bc%e3%83%8f%e3%83%aa%e3%82%a6%e3%83%83%e3%83%89%e5%80%89%e6%95%b7%ef%bc%88%e4%bb%ae%ef%bc%89-2/
LOCATION:スーパーハリウッド倉敷\, 松島1173-1\, 倉敷市\, 岡山県\, 701-0114\, 日本
CATEGORIES:移動販売
END:VEVENT
BEGIN:VEVENT
DTSTART;TZID=Asia/Tokyo:20240908T120000
DTEND;TZID=Asia/Tokyo:20240908T210000
DTSTAMP:20260421T041115
CREATED:20240813T061251Z
LAST-MODIFIED:20240813T061251Z
UID:258-1725796800-1725829200@neo-lavenir.com
SUMMARY:移動販売@スーパーハリウッド青江
DESCRIPTION:取扱商品：たこ焼き
URL:https://neo-lavenir.com/event/%e7%a7%bb%e5%8b%95%e8%b2%a9%e5%a3%b2%e3%82%b9%e3%83%bc%e3%83%91%e3%83%bc%e3%83%8f%e3%83%aa%e3%82%a6%e3%83%83%e3%83%89%e9%9d%92%e6%b1%9f-3/
LOCATION:スーパーハリウッド青江\, 北区青江２丁目７−４７\, 岡山市\, 岡山県\, 700-0941\, 日本
CATEGORIES:移動販売
END:VEVENT
BEGIN:VEVENT
DTSTART;TZID=Asia/Tokyo:20240901T120000
DTEND;TZID=Asia/Tokyo:20240901T210000
DTSTAMP:20260421T041115
CREATED:20240831T121747Z
LAST-MODIFIED:20240831T121747Z
UID:261-1725192000-1725224400@neo-lavenir.com
SUMMARY:移動販売@スーパーハリウッド1000 福山
DESCRIPTION:取扱商品：たこ焼き
URL:https://neo-lavenir.com/event/%e7%a7%bb%e5%8b%95%e8%b2%a9%e5%a3%b2%e3%82%b9%e3%83%bc%e3%83%91%e3%83%bc%e3%83%8f%e3%83%aa%e3%82%a6%e3%83%83%e3%83%891000-%e7%a6%8f%e5%b1%b1/
LOCATION:スーパーハリウッド1000 福山\, 東深津町３丁目１４−１\, 福山市\, 広島県\, 721-0974\, 日本
CATEGORIES:移動販売
END:VEVENT
BEGIN:VEVENT
DTSTART;TZID=Asia/Tokyo:20240831T120000
DTEND;TZID=Asia/Tokyo:20240831T210000
DTSTAMP:20260421T041115
CREATED:20240813T061228Z
LAST-MODIFIED:20240813T061228Z
UID:256-1725105600-1725138000@neo-lavenir.com
SUMMARY:移動販売@スーパーハリウッド下中野
DESCRIPTION:取扱商品：たこ焼き
URL:https://neo-lavenir.com/event/%e7%a7%bb%e5%8b%95%e8%b2%a9%e5%a3%b2%e3%82%b9%e3%83%bc%e3%83%91%e3%83%bc%e3%83%8f%e3%83%aa%e3%82%a6%e3%83%83%e3%83%89%e4%b8%8b%e4%b8%ad%e9%87%8e-2/
LOCATION:スーパーハリウッド下中野\, 北区下中野３６０−１\, 岡山市\, 岡山県\, 700-0973\, 日本
CATEGORIES:移動販売
END:VEVENT
BEGIN:VEVENT
DTSTART;TZID=Asia/Tokyo:20240825T120000
DTEND;TZID=Asia/Tokyo:20240825T210000
DTSTAMP:20260421T041115
CREATED:20240716T061434Z
LAST-MODIFIED:20240729T063836Z
UID:204-1724587200-1724619600@neo-lavenir.com
SUMMARY:移動販売@ハリウッド東岡山
DESCRIPTION:取扱商品：たこ焼き
URL:https://neo-lavenir.com/event/%e7%a7%bb%e5%8b%95%e8%b2%a9%e5%a3%b2%e3%83%8f%e3%83%aa%e3%82%a6%e3%83%83%e3%83%89%e6%9d%b1%e5%b2%a1%e5%b1%b1-3-2/
LOCATION:ハリウッド東岡山\, 神下145-1\, 岡山市中区\, 岡山県\, 703-8225\, 日本
CATEGORIES:移動販売
END:VEVENT
BEGIN:VEVENT
DTSTART;TZID=Asia/Tokyo:20240824T120000
DTEND;TZID=Asia/Tokyo:20240824T210000
DTSTAMP:20260421T041115
CREATED:20240716T061122Z
LAST-MODIFIED:20240729T063813Z
UID:202-1724500800-1724533200@neo-lavenir.com
SUMMARY:移動販売@ハリウッド東岡山
DESCRIPTION:取扱商品：たこ焼き
URL:https://neo-lavenir.com/event/%e7%a7%bb%e5%8b%95%e8%b2%a9%e5%a3%b2%e3%83%8f%e3%83%aa%e3%82%a6%e3%83%83%e3%83%89%e6%9d%b1%e5%b2%a1%e5%b1%b1-2-2/
LOCATION:ハリウッド東岡山\, 神下145-1\, 岡山市中区\, 岡山県\, 703-8225\, 日本
CATEGORIES:移動販売
END:VEVENT
BEGIN:VEVENT
DTSTART;TZID=Asia/Tokyo:20240823T120000
DTEND;TZID=Asia/Tokyo:20240823T210000
DTSTAMP:20260421T041115
CREATED:20240716T061108Z
LAST-MODIFIED:20240729T063754Z
UID:200-1724414400-1724446800@neo-lavenir.com
SUMMARY:移動販売@ハリウッド東岡山
DESCRIPTION:取扱商品：たこ焼き
URL:https://neo-lavenir.com/event/%e7%a7%bb%e5%8b%95%e8%b2%a9%e5%a3%b2%e3%83%8f%e3%83%aa%e3%82%a6%e3%83%83%e3%83%89%e6%9d%b1%e5%b2%a1%e5%b1%b1%ef%bc%88%e4%bb%ae%ef%bc%89/
LOCATION:ハリウッド東岡山\, 神下145-1\, 岡山市中区\, 岡山県\, 703-8225\, 日本
CATEGORIES:移動販売
END:VEVENT
BEGIN:VEVENT
DTSTART;TZID=Asia/Tokyo:20240818T120000
DTEND;TZID=Asia/Tokyo:20240818T210000
DTSTAMP:20260421T041115
CREATED:20240731T153328Z
LAST-MODIFIED:20240731T153328Z
UID:235-1723982400-1724014800@neo-lavenir.com
SUMMARY:移動販売@グレートハリウッド津山
DESCRIPTION:取扱商品：たこ焼き
URL:https://neo-lavenir.com/event/%e7%a7%bb%e5%8b%95%e8%b2%a9%e5%a3%b2%e3%82%b0%e3%83%ac%e3%83%bc%e3%83%88%e3%83%8f%e3%83%aa%e3%82%a6%e3%83%83%e3%83%89%e6%b4%a5%e5%b1%b1/
LOCATION:グレートハリウッド津山\, 野介代50-1\, 津山市\, 岡山県\, 708-0821\, 日本
CATEGORIES:移動販売
END:VEVENT
BEGIN:VEVENT
DTSTART;TZID=Asia/Tokyo:20240816T120000
DTEND;TZID=Asia/Tokyo:20240816T210000
DTSTAMP:20260421T041115
CREATED:20240716T060942Z
LAST-MODIFIED:20240716T060942Z
UID:198-1723809600-1723842000@neo-lavenir.com
SUMMARY:移動販売@ハリウッド東岡山
DESCRIPTION:取扱商品：たこ焼き
URL:https://neo-lavenir.com/event/%e7%a7%bb%e5%8b%95%e8%b2%a9%e5%a3%b2%e3%83%8f%e3%83%aa%e3%82%a6%e3%83%83%e3%83%89%e6%9d%b1%e5%b2%a1%e5%b1%b1-4/
LOCATION:ハリウッド東岡山\, 神下145-1\, 岡山市中区\, 岡山県\, 703-8225\, 日本
CATEGORIES:移動販売
END:VEVENT
BEGIN:VEVENT
DTSTART;TZID=Asia/Tokyo:20240804T120000
DTEND;TZID=Asia/Tokyo:20240804T210000
DTSTAMP:20260421T041115
CREATED:20240717T073137Z
LAST-MODIFIED:20240717T073137Z
UID:223-1722772800-1722805200@neo-lavenir.com
SUMMARY:移動販売@スーパーハリウッド下中野
DESCRIPTION:取扱商品：たこ焼き
URL:https://neo-lavenir.com/event/%e7%a7%bb%e5%8b%95%e8%b2%a9%e5%a3%b2%e3%82%b9%e3%83%bc%e3%83%91%e3%83%bc%e3%83%8f%e3%83%aa%e3%82%a6%e3%83%83%e3%83%89%e4%b8%8b%e4%b8%ad%e9%87%8e/
LOCATION:スーパーハリウッド下中野\, 北区下中野３６０−１\, 岡山市\, 岡山県\, 700-0973\, 日本
CATEGORIES:移動販売
END:VEVENT
END:VCALENDAR