BEGIN:VCALENDAR
VERSION:2.0
PRODID:-//L‘Avenir（ラブニール） - ECPv6.4.0.1//NONSGML v1.0//EN
CALSCALE:GREGORIAN
METHOD:PUBLISH
X-ORIGINAL-URL:https://neo-lavenir.com
X-WR-CALDESC:L‘Avenir（ラブニール） のイベント
REFRESH-INTERVAL;VALUE=DURATION:PT1H
X-Robots-Tag:noindex
X-PUBLISHED-TTL:PT1H
BEGIN:VTIMEZONE
TZID:Asia/Tokyo
BEGIN:STANDARD
TZOFFSETFROM:+0900
TZOFFSETTO:+0900
TZNAME:JST
DTSTART:20240101T000000
END:STANDARD
END:VTIMEZONE
BEGIN:VEVENT
DTSTART;TZID=Asia/Tokyo:20240803T120000
DTEND;TZID=Asia/Tokyo:20240803T210000
DTSTAMP:20260421T054403
CREATED:20240716T150333Z
LAST-MODIFIED:20240717T073123Z
UID:217-1722686400-1722718800@neo-lavenir.com
SUMMARY:移動販売@スーパーハリウッド下中野
DESCRIPTION:取扱商品：たこ焼き
URL:https://neo-lavenir.com/event/%e7%a7%bb%e5%8b%95%e8%b2%a9%e5%a3%b2%e3%82%b9%e3%83%bc%e3%83%91%e3%83%bc%e3%83%8f%e3%83%aa%e3%82%a6%e3%83%83%e3%83%89%e9%9d%92%e6%b1%9f/
LOCATION:スーパーハリウッド下中野\, 北区下中野３６０−１\, 岡山市\, 岡山県\, 700-0973\, 日本
CATEGORIES:移動販売
END:VEVENT
BEGIN:VEVENT
DTSTART;TZID=Asia/Tokyo:20240804T120000
DTEND;TZID=Asia/Tokyo:20240804T210000
DTSTAMP:20260421T054403
CREATED:20240717T073137Z
LAST-MODIFIED:20240717T073137Z
UID:223-1722772800-1722805200@neo-lavenir.com
SUMMARY:移動販売@スーパーハリウッド下中野
DESCRIPTION:取扱商品：たこ焼き
URL:https://neo-lavenir.com/event/%e7%a7%bb%e5%8b%95%e8%b2%a9%e5%a3%b2%e3%82%b9%e3%83%bc%e3%83%91%e3%83%bc%e3%83%8f%e3%83%aa%e3%82%a6%e3%83%83%e3%83%89%e4%b8%8b%e4%b8%ad%e9%87%8e/
LOCATION:スーパーハリウッド下中野\, 北区下中野３６０−１\, 岡山市\, 岡山県\, 700-0973\, 日本
CATEGORIES:移動販売
END:VEVENT
BEGIN:VEVENT
DTSTART;TZID=Asia/Tokyo:20240816T120000
DTEND;TZID=Asia/Tokyo:20240816T210000
DTSTAMP:20260421T054403
CREATED:20240716T060942Z
LAST-MODIFIED:20240716T060942Z
UID:198-1723809600-1723842000@neo-lavenir.com
SUMMARY:移動販売@ハリウッド東岡山
DESCRIPTION:取扱商品：たこ焼き
URL:https://neo-lavenir.com/event/%e7%a7%bb%e5%8b%95%e8%b2%a9%e5%a3%b2%e3%83%8f%e3%83%aa%e3%82%a6%e3%83%83%e3%83%89%e6%9d%b1%e5%b2%a1%e5%b1%b1-4/
LOCATION:ハリウッド東岡山\, 神下145-1\, 岡山市中区\, 岡山県\, 703-8225\, 日本
CATEGORIES:移動販売
END:VEVENT
BEGIN:VEVENT
DTSTART;TZID=Asia/Tokyo:20240818T120000
DTEND;TZID=Asia/Tokyo:20240818T210000
DTSTAMP:20260421T054403
CREATED:20240731T153328Z
LAST-MODIFIED:20240731T153328Z
UID:235-1723982400-1724014800@neo-lavenir.com
SUMMARY:移動販売@グレートハリウッド津山
DESCRIPTION:取扱商品：たこ焼き
URL:https://neo-lavenir.com/event/%e7%a7%bb%e5%8b%95%e8%b2%a9%e5%a3%b2%e3%82%b0%e3%83%ac%e3%83%bc%e3%83%88%e3%83%8f%e3%83%aa%e3%82%a6%e3%83%83%e3%83%89%e6%b4%a5%e5%b1%b1/
LOCATION:グレートハリウッド津山\, 野介代50-1\, 津山市\, 岡山県\, 708-0821\, 日本
CATEGORIES:移動販売
END:VEVENT
BEGIN:VEVENT
DTSTART;TZID=Asia/Tokyo:20240823T120000
DTEND;TZID=Asia/Tokyo:20240823T210000
DTSTAMP:20260421T054403
CREATED:20240716T061108Z
LAST-MODIFIED:20240729T063754Z
UID:200-1724414400-1724446800@neo-lavenir.com
SUMMARY:移動販売@ハリウッド東岡山
DESCRIPTION:取扱商品：たこ焼き
URL:https://neo-lavenir.com/event/%e7%a7%bb%e5%8b%95%e8%b2%a9%e5%a3%b2%e3%83%8f%e3%83%aa%e3%82%a6%e3%83%83%e3%83%89%e6%9d%b1%e5%b2%a1%e5%b1%b1%ef%bc%88%e4%bb%ae%ef%bc%89/
LOCATION:ハリウッド東岡山\, 神下145-1\, 岡山市中区\, 岡山県\, 703-8225\, 日本
CATEGORIES:移動販売
END:VEVENT
BEGIN:VEVENT
DTSTART;TZID=Asia/Tokyo:20240824T120000
DTEND;TZID=Asia/Tokyo:20240824T210000
DTSTAMP:20260421T054403
CREATED:20240716T061122Z
LAST-MODIFIED:20240729T063813Z
UID:202-1724500800-1724533200@neo-lavenir.com
SUMMARY:移動販売@ハリウッド東岡山
DESCRIPTION:取扱商品：たこ焼き
URL:https://neo-lavenir.com/event/%e7%a7%bb%e5%8b%95%e8%b2%a9%e5%a3%b2%e3%83%8f%e3%83%aa%e3%82%a6%e3%83%83%e3%83%89%e6%9d%b1%e5%b2%a1%e5%b1%b1-2-2/
LOCATION:ハリウッド東岡山\, 神下145-1\, 岡山市中区\, 岡山県\, 703-8225\, 日本
CATEGORIES:移動販売
END:VEVENT
BEGIN:VEVENT
DTSTART;TZID=Asia/Tokyo:20240825T120000
DTEND;TZID=Asia/Tokyo:20240825T210000
DTSTAMP:20260421T054403
CREATED:20240716T061434Z
LAST-MODIFIED:20240729T063836Z
UID:204-1724587200-1724619600@neo-lavenir.com
SUMMARY:移動販売@ハリウッド東岡山
DESCRIPTION:取扱商品：たこ焼き
URL:https://neo-lavenir.com/event/%e7%a7%bb%e5%8b%95%e8%b2%a9%e5%a3%b2%e3%83%8f%e3%83%aa%e3%82%a6%e3%83%83%e3%83%89%e6%9d%b1%e5%b2%a1%e5%b1%b1-3-2/
LOCATION:ハリウッド東岡山\, 神下145-1\, 岡山市中区\, 岡山県\, 703-8225\, 日本
CATEGORIES:移動販売
END:VEVENT
BEGIN:VEVENT
DTSTART;TZID=Asia/Tokyo:20240831T120000
DTEND;TZID=Asia/Tokyo:20240831T210000
DTSTAMP:20260421T054403
CREATED:20240813T061228Z
LAST-MODIFIED:20240813T061228Z
UID:256-1725105600-1725138000@neo-lavenir.com
SUMMARY:移動販売@スーパーハリウッド下中野
DESCRIPTION:取扱商品：たこ焼き
URL:https://neo-lavenir.com/event/%e7%a7%bb%e5%8b%95%e8%b2%a9%e5%a3%b2%e3%82%b9%e3%83%bc%e3%83%91%e3%83%bc%e3%83%8f%e3%83%aa%e3%82%a6%e3%83%83%e3%83%89%e4%b8%8b%e4%b8%ad%e9%87%8e-2/
LOCATION:スーパーハリウッド下中野\, 北区下中野３６０−１\, 岡山市\, 岡山県\, 700-0973\, 日本
CATEGORIES:移動販売
END:VEVENT
END:VCALENDAR