BEGIN:VCALENDAR
VERSION:2.0
PRODID:-//L‘Avenir（ラブニール） - ECPv6.4.0.1//NONSGML v1.0//EN
CALSCALE:GREGORIAN
METHOD:PUBLISH
X-ORIGINAL-URL:https://neo-lavenir.com
X-WR-CALDESC:L‘Avenir（ラブニール） のイベント
REFRESH-INTERVAL;VALUE=DURATION:PT1H
X-Robots-Tag:noindex
X-PUBLISHED-TTL:PT1H
BEGIN:VTIMEZONE
TZID:Asia/Tokyo
BEGIN:STANDARD
TZOFFSETFROM:+0900
TZOFFSETTO:+0900
TZNAME:JST
DTSTART:20250101T000000
END:STANDARD
END:VTIMEZONE
BEGIN:VEVENT
DTSTART;TZID=Asia/Tokyo:20250802T120000
DTEND;TZID=Asia/Tokyo:20250802T200000
DTSTAMP:20260420T114521
CREATED:20250710T064052Z
LAST-MODIFIED:20250710T064052Z
UID:508-1754136000-1754164800@neo-lavenir.com
SUMMARY:移動販売@スーパーハリウッド1000 福山
DESCRIPTION:取扱商品：たこ焼き
URL:https://neo-lavenir.com/event/%e7%a7%bb%e5%8b%95%e8%b2%a9%e5%a3%b2%e3%82%b9%e3%83%bc%e3%83%91%e3%83%bc%e3%83%8f%e3%83%aa%e3%82%a6%e3%83%83%e3%83%891000-%e7%a6%8f%e5%b1%b1-13/
LOCATION:スーパーハリウッド1000 福山\, 東深津町３丁目１４−１\, 福山市\, 広島県\, 721-0974\, 日本
CATEGORIES:移動販売
END:VEVENT
END:VCALENDAR